BEGIN:VCALENDAR
VERSION:2.0
PRODID:-//MAJOSZ - Magyar Járműalkatrészgyártók Országos Szövetsége - ECPv6.6.1//NONSGML v1.0//EN
CALSCALE:GREGORIAN
METHOD:PUBLISH
X-ORIGINAL-URL:https://automotivesuppliers.hu
X-WR-CALDESC:Események MAJOSZ - Magyar Járműalkatrészgyártók Országos Szövetsége számára
REFRESH-INTERVAL;VALUE=DURATION:PT1H
X-Robots-Tag:noindex
X-PUBLISHED-TTL:PT1H
BEGIN:VTIMEZONE
TZID:UTC
BEGIN:STANDARD
TZOFFSETFROM:+0000
TZOFFSETTO:+0000
TZNAME:UTC
DTSTART:20220101T000000
END:STANDARD
END:VTIMEZONE
BEGIN:VEVENT
DTSTART;VALUE=DATE:20221124
DTEND;VALUE=DATE:20221126
DTSTAMP:20260426T061336
CREATED:20221102T115327Z
LAST-MODIFIED:20221102T115327Z
UID:10000610-1669248000-1669420799@automotivesuppliers.hu
SUMMARY:TECHference Ipari konferencia és kiállítás
DESCRIPTION:2022. november 24.\n09:00 ? 10:55 ? Plenáris előadások I. \n09:00 ? 09:05 ? Czakó Miklós\, főszerkesztő\, NEW technology magazin: \nHonnan jöttünk\, merre tartunk?! 5 éves a NEW technology ipari szaklap \n09:05 ? 09:20 ? Dr. Christiane Endrich\, CEO\, Endrich Bauelemente Vertriebs GmbH: \nHamarosan (angol nyelvű) \n09:20 ? 09:35 ? Kiss Zoltán\, Export igazgató\, Endrich Bauelemente Vertriebs GmbH: \nOkos-szenzorok adatainak gyűjtése ipari környezetben ? az E-IoT alkalmazása \n09:35 ? 09:55 ? Kovács Gábor\, ügyvezető igazgató\, DMG MORI Hungary Kft.\, Bagdi Attila\, Digital Sales Manager\, DMG MORI HEITEC Digital\, Varsányi Zsolt\, Digital Sales Manager\, DMG MORI HEITEC Digital: \nHamarosan \n09:55 ? 10:15 ? Nadj István\, ügyvezető igazgató\, CAD-Terv Csoport: \nFejlesztési folyamat digitalizációja és ami mögötte van \n10:15 ? 10:35 ? Bóna Péter\, ügyvezető igazgató\, COM-FORTH Ipari Informatikai Kft.: \nAz aktuális Ipar 4.0 trendek áttekintése a hazai realitás kontextusában \n10:35 ? 10:55 ? Rab Gergely\, tanácsadó\, Dell Technologies: \nHamarosan \n10:55 ? 11:30 ? KÁVÉSZÜNET / NETWORKING \n\n\n\n\n\n\n11:30 ? 12:30 ? Plenáris előadások II. \n\n\n\n\n11:30 ? 11:50 ? Bod Péter Ákos\, professzor\, volt ipari és kereskedelmi miniszter: \n\n\n\nMagyar gazdasági kilátások ? viharos időkben \n\n\n\n11:50 ? 12:10 ? Mózes József\, ügyvezető igazgató\, Photon Energy: \nHogyan csökkentheti cége kitettségét az energiapiaci változásoknak? Helyszíni naperőműves megoldások \n12:10 ? 12:30 ? Mátrai Norbert\, szenior tanácsadó\, Kaizen Institute Hungary: \nLélegzés vagy légszomj a minőségszemlélet? avagy a minőségtudatosság fontossága \n12:30 ? 13:30 ? EBÉDSZÜNET/ NETWORKING \n\n\n\n\n\nSzakmai program I.  \n\n\n\n\n13:30 ? 13:45 ? Bogár Judit \, 3D technológiai divízióvezető\, Kvint-R Kft.: \nFolyékony műgyanta alapú 3D alapanyagok alkalmazása végtermék és prototípus gyártásra \n13:45 ? 14:05 ? Kertész Róbert Tibor\, Accessium Ltd.: \nBiztonságos Ipar 5.0 IoT megoldás\, 10 éves humán erőforrás menedzsment rendszer \n14:05 ? 14:20 ? Dömötör Ákos\, ügyvezető\, Vulcan Automation: \nHamarosan \n14:20 ? 14:35 ? Vadász István\, hardverfejlesztés üzletágvezető\, ProDSP Technologies: \nÚjgenerációs szenzorfejlesztés gyakorlati tapasztalatai \n14:35 ? 14:50 ? Horváth László\, ügyvezető igazgató\, MEWA Textil-Service Kft.: \nHamarosan \n14:50 ? 15:20 ? KÁVÉSZÜNET / NETWORKING \n\n\n\n\n\nSzakmai program II. \n\n\n\n\n15:20 ? 15:35 ? Kovács Norbert\, GrECo Services Hungary: \nCyber kockázatok kezelése: Hogyan\, mit és miért? \n15:35 ? 15:50 ? Szabó Péter\, CTO\, Freedee Printing Solutions: \nKompozit 3D nyomtató\, a megbízható beszállító \n15:50 ? 16:10 ? Gém Péter\, szakértékesítési és üzletfejlesztési üzletág igazgató\, 4iG: \nHogyan legyen tudatos energiagazdálkodásunk? \n16:10 ? 16:25 ? Felkérés alatt \n16:25 ? 17:00 ? KEREKASZTAL-BESZÉLGETÉS:  \nAmi mindenkit érdekel ? Hogyan élhetjük túl az energiaválságot? | Hogyan és miből ruházzunk be? | Mihez nyúljunk egyáltalán? | Megéri? \n\n2022. november 25.\n\n\n\n09:00-10:55 ? Plenáris előadások I.\n\n\n\n09:00 ? 09:05 ? Czakó Miklós\, főszerkesztő\, NEW technology magazin:\nKöszöntő \n09:05 ? 09:10 ? Felkérés alatt\, Miskolci Egyetem\nKöszöntő \n09:10 ? 09:25 ? Hoffer Zoltán\, szenior szakértékesítő\, 4iG Nyrt.:\nAGV és az ember hatékony együttműködése az intralogisztikában \n09:25 ? 09:40 ? Flóra Zsolt\, üzletfejlesztési menedzser\, Siemens Zrt.: \nEgyeztetés alatt \n09:40 ? 10:00 ? Felkérés alatt \n10:00 ? 10:20 ? KÁVÉSZÜNET / NETWORKING \n\n10:20-12:00 ? Plenáris előadások II. \n\n\n100 perc minőség az ISOFORUM-mal\n\n\n\n10:20 ? 10:40 ? Sződi Sándor\, Ny. minőség szakértő: \n\nA blokk felvezetése\nA felső vezetés felelőssége\n\n10:40 ? 11:00 ? Mátrai Norbert\, vezető tanácsadó\, Kaizen Institute Hungary Kft.: \nMiért kell nekünk a KAIZEN?11:00 ? 11:20 ? Sarus-Zsivicza Diána\, ügyvezető\, Lollipop Nyomda és Reklám Kft.:Határidőre minőséget11:20 ? 11:40 ? Pató Sándor\, ügyvezető\, Silver Frog Informatikai Kft.; Harazin Tibor\, projekt menedzser\, Silver Frog Informatikai Kft.Ami el tud romlani az el is romlik ? karbantartás minőségügyi szemüveggel11:40 ? 12:00 ? Kérdések és válaszok az előadók részvételével\n12:00-13:00 ? Záró kerekasztal-beszélgetés:\n  \n\n\n\nA magyar ipar jövője\n\n\n\n\n\nA világjárvány lecsengett\, de az orosz-ukrán háború\, az energiaválás napi szinten kihívások elé állítja a kis- és nagyvállalatokat egyaránt. \nUgyan tavaly már körbe jártuk a témát\, de a számtalan friss tényező miatt ismét meghívtuk Hartmann Anitát\, Kelly Robert Seant\, Rehák Bálintot ? új megszólalóként pedig Macher Gábor csatlakozik hozzájuk -\, hogy megtudjuk\, most miként vélekednek\, és hogyan látják a magyar ipar jövőjét? \nRésztvevők: \n\nHartmann Anita\, Partnerkapcsolati igazgató\, IVSZ\nKelly Robert Sean\, ügyvezető\, Metalloglobus Fémöntő Kft.\nRehák Bálint\, Ipar 4.0-ért felelős vezető\, Bosch Rexroth\nMacher Gábor\, vezérigazgató\, Macher Zrt.\n\nRÉSZLETEK ÉS REGISZTRÁCIÓ
URL:https://automotivesuppliers.hu/esemeny/techference-ipari-konferencia-es-kiallitas/
ATTACH;FMTTYPE=:
END:VEVENT
END:VCALENDAR