BEGIN:VCALENDAR
VERSION:2.0
PRODID:-//MAJOSZ - Magyar Járműalkatrészgyártók Országos Szövetsége - ECPv6.6.1//NONSGML v1.0//EN
CALSCALE:GREGORIAN
METHOD:PUBLISH
X-WR-CALNAME:MAJOSZ - Magyar Járműalkatrészgyártók Országos Szövetsége
X-ORIGINAL-URL:https://automotivesuppliers.hu
X-WR-CALDESC:Események MAJOSZ - Magyar Járműalkatrészgyártók Országos Szövetsége számára
REFRESH-INTERVAL;VALUE=DURATION:PT1H
X-Robots-Tag:noindex
X-PUBLISHED-TTL:PT1H
BEGIN:VTIMEZONE
TZID:UTC
BEGIN:STANDARD
TZOFFSETFROM:+0000
TZOFFSETTO:+0000
TZNAME:UTC
DTSTART:20220101T000000
END:STANDARD
END:VTIMEZONE
BEGIN:VEVENT
DTSTART;TZID=UTC:20221208T100000
DTEND;TZID=UTC:20221208T110000
DTSTAMP:20260426T050256
CREATED:20221202T090535Z
LAST-MODIFIED:20221202T090535Z
UID:10000611-1670493600-1670497200@automotivesuppliers.hu
SUMMARY:Felültet a felületmodellezés? ? Tegyünk pontot az ?i?-re! CAD webinár
DESCRIPTION:A graphIT Kft. december 8-án\, 10:00 órától tartja ingyenes online webinárját\, melyben bemutatják\, hogyan lesz megtérülő egy CAD rendszerbe való beruházás. \nAz előadásuk központi témája a felületmodellezés profi használatával elérhető előnyök lesznek. Továbbá szót ejtenek a technológia alkalmazásának lehetőségeiről\, és a hatékony felülettervezési eljárásokról\, sőt\, a gyakorlatba is átültetik konkrét terméktervezési példákon keresztülvezetve. \nA webinár résztvevői az alábbiakra kapnak választ: \n\nhogyan könnyítheti munkáját a felületmodellezés\,\nhogyan hozhat létre olyan felületeket\, amilyeneket szeretett volna\, de nem volt rá eszköze\,\náltalában mire használják az NX felületmodellezését és milyen eszközök állnak rendelkezése:\n\nfelületek algoritmizálása\,\nimportált modell visszaépítése felületekkel\,\nszabadformák ?gyurmázása?\,\nsok egyéb hasznos funkció a mindennapok megkönnyítésére.\n\n\n\nIdőpont: 2022.12.08. Csütörtök\, 10:00 ? 11:00 \nRegisztráció
URL:https://automotivesuppliers.hu/esemeny/felultet-a-feluletmodellezes-tegyunk-pontot-az-i-re-cad-webinar/
CATEGORIES:webinar
ATTACH;FMTTYPE=:
END:VEVENT
END:VCALENDAR