BEGIN:VCALENDAR
VERSION:2.0
PRODID:-//MAJOSZ - Magyar Járműalkatrészgyártók Országos Szövetsége - ECPv6.6.1//NONSGML v1.0//EN
CALSCALE:GREGORIAN
METHOD:PUBLISH
X-ORIGINAL-URL:https://automotivesuppliers.hu
X-WR-CALDESC:Események MAJOSZ - Magyar Járműalkatrészgyártók Országos Szövetsége számára
REFRESH-INTERVAL;VALUE=DURATION:PT1H
X-Robots-Tag:noindex
X-PUBLISHED-TTL:PT1H
BEGIN:VTIMEZONE
TZID:UTC
BEGIN:STANDARD
TZOFFSETFROM:+0000
TZOFFSETTO:+0000
TZNAME:UTC
DTSTART:20220101T000000
END:STANDARD
END:VTIMEZONE
BEGIN:VEVENT
DTSTART;TZID=UTC:20221215T083000
DTEND;TZID=UTC:20221215T103000
DTSTAMP:20260426T045851
CREATED:20221214T080419Z
LAST-MODIFIED:20221214T080419Z
UID:10000612-1671093000-1671100200@automotivesuppliers.hu
SUMMARY:HUNGARIAN-VIETNAMESE E-MOBILITY WORKSHOP
DESCRIPTION:08:30-08:35 OPENING REMARKS BY MR TIBOR BALOGHDI\, AMBASSADOR OF HUNGARY \n08:35-08:50 DR ZSOLT HAJNALKA\, ASSOCIATION OF HUNGARIAN AUTOMOTIVE SUPPLIERS \n08:50-09:05 DR PÉTER KADERJÁK\, MANAGING DIRECTOR\, HUNGARIAN BATTERY ALLIANCE \n09:05-09:20 MR ZOLTÁN TANKÓ\, CEO OF IKARUS GLOBAL \n09:20-09:35 MR NINH HUU CHAN\, VICE PRESIDENT\, VIETNAM AUTOMOBILE MANUFACTURERS ASSOCIATION \n09:35-09:50 MR TRAN ANH DUONG\, DEPUTY DIRECTOR OF SCIENCE-ECHNOLOGY AND ENVIROMENT DEPARTMENT\, MINISTRY OF TRANSPORT OF VIETNAM \n09:50-10:05 MR PHAM HOANG HAI\, HEAD OF COMMERCIAL AND STRATEGIC PARTNERSHIP\, VINGROUP \n10:05-10:15 Q&A SESSION AND CLOSING \nCSATLAKOZÁS \nA magyar résztvevők online becsatlakozása mellett\, a legtöbb vietnámi résztvevő és előadó személyes jelenlétével fog sor kerülni a vietnámi magyar nagykövetségen.\nA workshop nyelve angol?vietnámi\, melyhez szinkrontolmácsolást biztosítunk a helyszínen\, és a megfelelő Zoom csatornán.\nHanoiban +6 óra az időeltolódás\, tehát budapesti idő szerint 8:30-kor kezdünk\, ekkor Hanoiban az idő 14:30.
URL:https://automotivesuppliers.hu/esemeny/hungarian-vietnamese-e-mobility-workshop/
CATEGORIES:webinar
ATTACH;FMTTYPE=:
END:VEVENT
END:VCALENDAR