BEGIN:VCALENDAR
VERSION:2.0
PRODID:-//MAJOSZ - Magyar Járműalkatrészgyártók Országos Szövetsége - ECPv6.6.1//NONSGML v1.0//EN
CALSCALE:GREGORIAN
METHOD:PUBLISH
X-WR-CALNAME:MAJOSZ - Magyar Járműalkatrészgyártók Országos Szövetsége
X-ORIGINAL-URL:https://automotivesuppliers.hu
X-WR-CALDESC:Események MAJOSZ - Magyar Járműalkatrészgyártók Országos Szövetsége számára
REFRESH-INTERVAL;VALUE=DURATION:PT1H
X-Robots-Tag:noindex
X-PUBLISHED-TTL:PT1H
BEGIN:VTIMEZONE
TZID:UTC
BEGIN:STANDARD
TZOFFSETFROM:+0000
TZOFFSETTO:+0000
TZNAME:UTC
DTSTART:20230101T000000
END:STANDARD
END:VTIMEZONE
BEGIN:VEVENT
DTSTART;TZID=UTC:20230209T083000
DTEND;TZID=UTC:20230209T113000
DTSTAMP:20260426T015223
CREATED:20230205T132307Z
LAST-MODIFIED:20230205T132307Z
UID:10000613-1675931400-1675942200@automotivesuppliers.hu
SUMMARY:MAJOSZ MUNKAREGGELI
DESCRIPTION:2023. február 9-én gazdaságfejlesztési lehetőségek a járműiparban témájú munkareggelit tartunk\, kiemelt vendégünk\, Lóga Máté\, Gazdaságfejlesztésért és nemzeti pénzügyi szolgáltatásokért felelős államtitkár\, meghallgatja a vállalatok problémáit\, kérdéseit\, felvetéseit. \nHelyszín: Millennium Kávéház és Étterem \nIdőpont: 2023. február 9. csütörtök \nProgramterv: \n8:30-9:00 Témafelvezetés\, Dr. Nyirő József\, MAJOSZ elnök \n9:00-09:30 Előadás\, Lóga Máté\, Gazdaságfejlesztésért és nemzeti pénzügyi szolgáltatásokért felelős államtitkár \n9:30-11:30 Beszélgetés \nA rendezvényen való részvétel díja: 10.000 Ft+ÁFA/fő \nREGISZTRÁCIÓ \njelentkezési határidő: 2023. február 7. 16 óra \nAz esemény létszámkorlátja miatt egy vállalattól 1 fő vendéget tudunk fogadni. \nAmennyiben a jelentkezést követően mégsem tud személyesen részt venni\, kérjük\, legkésőbb 2023.02.07-ig írásban értesítsen minket. Ellenkező esetben a teljes részvételi díj kiszámlázásra kerül.
URL:https://automotivesuppliers.hu/esemeny/majosz-munkareggeli/
CATEGORIES:munkareggeli,üzleti reggeli
ATTACH;FMTTYPE=:
END:VEVENT
END:VCALENDAR