BEGIN:VCALENDAR
VERSION:2.0
PRODID:-//MAJOSZ - Magyar Járműalkatrészgyártók Országos Szövetsége - ECPv6.6.1//NONSGML v1.0//EN
CALSCALE:GREGORIAN
METHOD:PUBLISH
X-ORIGINAL-URL:https://automotivesuppliers.hu
X-WR-CALDESC:Események MAJOSZ - Magyar Járműalkatrészgyártók Országos Szövetsége számára
REFRESH-INTERVAL;VALUE=DURATION:PT1H
X-Robots-Tag:noindex
X-PUBLISHED-TTL:PT1H
BEGIN:VTIMEZONE
TZID:UTC
BEGIN:STANDARD
TZOFFSETFROM:+0000
TZOFFSETTO:+0000
TZNAME:UTC
DTSTART:20230101T000000
END:STANDARD
END:VTIMEZONE
BEGIN:VEVENT
DTSTART;TZID=UTC:20230228T080000
DTEND;TZID=UTC:20230228T120000
DTSTAMP:20260426T001414
CREATED:20230221T073946Z
LAST-MODIFIED:20230221T073946Z
UID:10000616-1677571200-1677585600@automotivesuppliers.hu
SUMMARY:KPMG Üzleti reggeli - Felkészülés a német ellátási lánc átvilágítási törvényre
DESCRIPTION:Kedves Partnerünk\, \nnagy örömmel hívjuk meg Önt a KPMG ?Felkészülés a német ellátási lánc átvilágítási törvényre? című üzleti reggelijére 2023. február 28-án. \n2022. január 1-től minden 3000 főnél több alkalmazottal rendelkező Németországban működő (ott központi ügyvezetéssel\, fő telephellyel\, igazgatási központtal vagy fiókteleppel rendelkező) vállalat\, míg 2023. január 1-től minden 1000 fő feletti vállalat köteles az emberjogi és környezetvédelmi kockázatok kezelésére és csökkentésére a közvetlen és közvetett beszállítói vonatkozásában. Ez a rendelkezés számos – német vállalatoknak beszállító – Magyarországon működő vállalatot érint. \nAz esemény során bemutatjuk a német vállalatok ellátási láncának átvilágítására vonatkozó törvényt\, amelynek fő célja az emberi jogok tiszteletben tartásának biztosítása az ellátási lánc szereplőinél. Áttekintjük továbbá a reggeli keretében az átvilágítás és kockázatelemzés folyamata\, a várható hatósági intézkedések és szankciók\, valamint a törvény várható hatása a Magyarországon működő beszállító vállalatokra. Ezt követően röviden lehetőség nyílik a felmerülő kérdések és a törvényi megfeleléshez szükséges teendők megvitatására is. \nPROGRAM \n8.30 ? 9.15: Regisztráció és reggeli \n9.15 ? 9.20: Megnyitó \n9.20 ? 10.45: A német ellátási lánc átvilágítási törvény és annak hatásai a német vállalatok beszállítóira \n10.45 ? 11.00: Lezárás \n11.00 ? 11.30:  Networking \nA program nyelve: magyar \nAz esemény a Német-Magyar Ipari és Kereskedelmi Kamara\, valamint a Magyar Logisztikai\, Beszerzési és Készletezési Társaság együttműködésével valósul meg. \nEseményünkön a részvétel ingyenes\, de előzetes regisztrációhoz kötött\, így kérjük\, részvételi szándékát jelezze a regisztrációs gombra kattintva február 24-ig! (A regisztrációk visszaigazolása a terem kapacitásainak és az üzleti szempontok mérlegelésével történik.)
URL:https://automotivesuppliers.hu/esemeny/kpmg-uzleti-reggeli-felkeszules-a-nemet-ellatasi-lanc-atvilagitasi-torvenyre/
CATEGORIES:üzleti reggeli
ATTACH;FMTTYPE=:
END:VEVENT
END:VCALENDAR