BEGIN:VCALENDAR
VERSION:2.0
PRODID:-//MAJOSZ - Magyar Járműalkatrészgyártók Országos Szövetsége - ECPv6.6.1//NONSGML v1.0//EN
CALSCALE:GREGORIAN
METHOD:PUBLISH
X-WR-CALNAME:MAJOSZ - Magyar Járműalkatrészgyártók Országos Szövetsége
X-ORIGINAL-URL:https://automotivesuppliers.hu
X-WR-CALDESC:Események MAJOSZ - Magyar Járműalkatrészgyártók Országos Szövetsége számára
REFRESH-INTERVAL;VALUE=DURATION:PT1H
X-Robots-Tag:noindex
X-PUBLISHED-TTL:PT1H
BEGIN:VTIMEZONE
TZID:UTC
BEGIN:STANDARD
TZOFFSETFROM:+0000
TZOFFSETTO:+0000
TZNAME:UTC
DTSTART:20230101T000000
END:STANDARD
END:VTIMEZONE
BEGIN:VEVENT
DTSTART;VALUE=DATE:20230516
DTEND;VALUE=DATE:20230520
DTSTAMP:20260425T205347
CREATED:20230205T133622Z
LAST-MODIFIED:20230205T133622Z
UID:10000614-1684195200-1684540799@automotivesuppliers.hu
SUMMARY:Automotive Hungary 2023/Ipar Napjai 2023
DESCRIPTION:AUTOMOTIVE HUNGARY 2023. május 16-19. között immár 11. alkalommal!\nAz AUTOMOTIVE HUNGARY kiállítás több\, mint egy évtizede azzal a céllal jött létre\, hogy a magyar járműipar szakmai szereplői\, a magyar autógyártóktól kezdve a beszállítókon át a kis- és középvállalkozásokig\, találkozhassanak egymással.\nA 11. AUTOMOTIVE HUNGARY társrendezvénye\, a 10. IPAR NAPJAI Nemzetközi ipari szakkiállítás.A rendezvény mindig is elkötelezett volt a legújabb technológiák és trendek bemutatása iránt\, így számunkra természetes\, hogy az idei kiállítás és a hozzá kapcsolódó konferenciák középpontjában a mesterséges intelligencia\, az 5G\, az elektromos hajtás és az ipar 4.0 áll. \nAz AUTOMOTIVE HUNGARY olyan programokat és találkozási\, együttműködési lehetőségeket nyújt\, amelyek segítenek a kiállítóknak a kitűzött céljaik elérésben\, a fejlődésben\, vagy abban\, hogy kérdéseikre válaszokat találjanak. Bármely okból érkeznek\, azon dolgozunk\, hogy az esemény végén mindenki elégedetten induljon haza. \nAkik már biztosan velünk tartanak:\nAuro Science Consulting Kft.\, Bay Zoltán Nonprofit Kft.\, BD Expo\, Büttner Kft.\, eCon Trading Kft.\, EURIZON Asset Management\,  ReWeRob Solutions Kft.\, Riel Kft.\, TRIGO Quality Support Kft.\, UniTurn Kft. \nVÁRJUK ÖNT IS A E211-215\, E320-323 MAJOSZ KOLLEKTÍV STANDON!\n\n\n\n\n\n\n\n\n\n\n\n\n\n\nAz előregisztráltak számára kialakított bejáratnál sorban állás nélkül\, díjmentesen léphetsz be a kiállítás területére 2023. május 16-19. között.\nKattints az előregisztrációért!
URL:https://automotivesuppliers.hu/esemeny/automotive-hungary-2023-ipar-napjai-2023/
CATEGORIES:B2B találkozó,kiállítás
ATTACH;FMTTYPE=:
END:VEVENT
BEGIN:VEVENT
DTSTART;VALUE=DATE:20230518
DTEND;VALUE=DATE:20230520
DTSTAMP:20260425T205347
CREATED:20230504T095734Z
LAST-MODIFIED:20230504T095734Z
UID:10000630-1684368000-1684540799@automotivesuppliers.hu
SUMMARY:XVI. LEAN FÓRUM FOLYAMATFEJLESZTÉSI KONFERENCIA
DESCRIPTION:Az elmúlt évek komoly lendületet adtak a digitalizációnak és számos új megoldás vált elérhetővé a vállalatok számára. A konferencián azt a témát járjuk körül\, hogy a Lean szemlélet és a folyamatfejlesztések\, hogyan támogatják egymást és milyen megoldások\, jó gyakorlatok jöttek létre. Hogyan tudja támogatni a Lean fejlesztéseket a digitalizáció\, hogyan változik a Lean eszközök alkalmazása ennek hatására és milyen keretet\, irányokat adhat a Lean szemléletű folyamatfejlesztés a digitalizáció eredményes alkalmazásának? \nIdén 16. esztendeje kerül megrendezésre az országos Lean Fórum – Folyamatfejlesztési Konferencia. Az elmúlt évek sikeres rendezvényein eddig több\, mint 180 vállalat előadói osztották meg tapasztalataikat a termelékenység fejlesztési és veszteségcsökkentési módszerek alkalmazása területén. \nA konferencián ismét találkozik egymással a Lean szakma számos meghatározó hazai szakembere. \nJöjjön el és ismerje meg\, hogy a világ vezető vállalatai hogyan alkalmazzák a „Lean” filozófiát és módszereket vállalatuk versenyképességének és hatékonyságának javítására. A program során számos vállalat kiváló előadói konkrét példákon keresztül mutatják be a Lean módszereket\, azok gyakorlati megvalósítását és kérdéseit\, továbbá lehetőség nyílik a Lean bevezetéssel kapcsolatos konstruktív szakmai párbeszédre. \n\nA Fórum fókuszai: \n\n\n\nLean és digitális transzformáció\nLean\, energiahatékonyság\, folyamatfejlesztés\n\nOnline jelentkezés \nLetölthető jelentkezési lap \nLetölthető program
URL:https://automotivesuppliers.hu/esemeny/xvi-lean-forum-folyamatfejlesztesi-konferencia/
CATEGORIES:konferencia
END:VEVENT
END:VCALENDAR