BEGIN:VCALENDAR
VERSION:2.0
PRODID:-//MAJOSZ - Magyar Járműalkatrészgyártók Országos Szövetsége - ECPv6.6.1//NONSGML v1.0//EN
CALSCALE:GREGORIAN
METHOD:PUBLISH
X-WR-CALNAME:MAJOSZ - Magyar Járműalkatrészgyártók Országos Szövetsége
X-ORIGINAL-URL:https://automotivesuppliers.hu
X-WR-CALDESC:Események MAJOSZ - Magyar Járműalkatrészgyártók Országos Szövetsége számára
REFRESH-INTERVAL;VALUE=DURATION:PT1H
X-Robots-Tag:noindex
X-PUBLISHED-TTL:PT1H
BEGIN:VTIMEZONE
TZID:UTC
BEGIN:STANDARD
TZOFFSETFROM:+0000
TZOFFSETTO:+0000
TZNAME:UTC
DTSTART:20230101T000000
END:STANDARD
END:VTIMEZONE
BEGIN:VEVENT
DTSTART;VALUE=DATE:20230609
DTEND;VALUE=DATE:20230610
DTSTAMP:20260425T193023
CREATED:20230313T174805Z
LAST-MODIFIED:20230313T174805Z
UID:10000625-1686268800-1686355199@automotivesuppliers.hu
SUMMARY:HEGESZTÉSI VERSENY A SZAKMA MŰVÉSZEINEK
DESCRIPTION:2023-ban 5. alkalommal rendezi meg a Rehm Hegesztéstechnika a már jól ismert FOCUSban a művészet hegesztési versenyt\, melynek társszervezője a MESSER Hungarogáz Kft\, főszponzora a PYLON-94 Kft.\, házigazdája a Zalaegerszegi Duális Ágazati Képzőközpont. \nA verseny jelentkezési határideje: 2023. március 31. \nA döntőbe jutatottak kihirdetése májusban az Ipar-Napjai kiállításon lesz.\nA hegesztési verseny június 9-én lesz megtartva Zalaegerszegen.\nRészletes versenykiírás és a jelentkezési/nevezési lap.
URL:https://automotivesuppliers.hu/esemeny/hegesztesi-verseny-a-szakma-muveszeinek/
ATTACH;FMTTYPE=:
END:VEVENT
END:VCALENDAR