BEGIN:VCALENDAR
VERSION:2.0
PRODID:-//MAJOSZ - Magyar Járműalkatrészgyártók Országos Szövetsége - ECPv6.6.1//NONSGML v1.0//EN
CALSCALE:GREGORIAN
METHOD:PUBLISH
X-WR-CALNAME:MAJOSZ - Magyar Járműalkatrészgyártók Országos Szövetsége
X-ORIGINAL-URL:https://automotivesuppliers.hu
X-WR-CALDESC:Események MAJOSZ - Magyar Járműalkatrészgyártók Országos Szövetsége számára
REFRESH-INTERVAL;VALUE=DURATION:PT1H
X-Robots-Tag:noindex
X-PUBLISHED-TTL:PT1H
BEGIN:VTIMEZONE
TZID:UTC
BEGIN:STANDARD
TZOFFSETFROM:+0000
TZOFFSETTO:+0000
TZNAME:UTC
DTSTART:20230101T000000
END:STANDARD
END:VTIMEZONE
BEGIN:VEVENT
DTSTART;VALUE=DATE:20230707
DTEND;VALUE=DATE:20230708
DTSTAMP:20260425T175817
CREATED:20230609T062707Z
LAST-MODIFIED:20230609T062707Z
UID:10000638-1688688000-1688774399@automotivesuppliers.hu
SUMMARY:Új Formel Q Workshop (ID 3512)
DESCRIPTION:A Volkswagen csoport széleskörű követelményrendszerrel rendelkezik a beszállítói részére\, hogy ezen követelmények betartásával biztosítható legyen a megfelelő termékelőállítási folyamat és megfelelő minőségű termék gyártása és szállítása. \nEzen a képzésen a Formel Q FÄHIGKEIT (Capability/Képesség) új\, 2023. február 26-án megjelent követelményei kerülnek ismertetésre. \nA KÉPZÉS CÉLCSOPORTJA\nA VW csoport jelenlegi és leendő beszállítói. \nBeszállítói auditorok\, vevői kapcsolattartók\, fejlesztésben résztvevő mérnökök\, projekt felelősök\, valamint olyan szakemberek\, akik VW beszállítói láncban dolgoznak. \nA KÉPZÉS TARTALMA\nA képzés tartalma: Formel Q FÄHIGKEIT” (Capability/Képesség) követelmény \nKONCEPCIÓ ÉS MÓDSZER\nA képzés során a tréner ismerteti a Formel Q FÄHIGKEIT” (Capability/Képesség) követelményeit. \nRÉSZVÉTELI ELŐFELTÉTEL\nNincs \nMEGSZEREZHETŐ KÉPESÍTÉS\nA hallgatók részvételi igazolást kapnak. \nKAPCSOLÓDÓ IRODALOM\nFormel Q FÄHIGKEIT \nKÉPZÉSI INFORMÁCIÓK \n\n\n\nLétszám\nMinimális létszám 6\, maximális létszám 16 fő.\n\n\nMegszerezhető képesítés\nA képzés sikeres elvégzésével Ön egy tanúsítványt kap\, melynek feltétele a workshop legalább 85%-án való részvétel.\n\n\nA képzés\nidőtartama\n0\,5 nap. A képzés 9 órakor kezdődik és körülbelül 13 órakor fejeződik be.\n\n\nA workshop költsége\n160 EUR + ÁFA / fő (Az ár nyílt KONTAKT képzés esetén érvényes. Kihelyezett képzésre kérjen egyedi árajánlatot!)* \n150 EUR + ÁFA / fő (Az ár nyílt ONLINE képzés esetén érvényes. Kihelyezett képzésre kérjen egyedi árajánlatot!)**\n\n\n\n*Az ár tartalmazza a magyar nyelvű tananyagot és a részvételi igazolást. \n*Az ár NEM tartalmazza a szállásköltséget. Külön kérés esetén szívesen ajánlunk egy közelben lévő szállodát vagy panziót. \n**Az ár tartalmazza a részvételi igazolást.
URL:https://automotivesuppliers.hu/esemeny/uj-formel-q-workshop-id-3512/
LOCATION:ONLINE
CATEGORIES:képzés
ATTACH;FMTTYPE=:
END:VEVENT
END:VCALENDAR