BEGIN:VCALENDAR
VERSION:2.0
PRODID:-//MAJOSZ - Magyar Járműalkatrészgyártók Országos Szövetsége - ECPv6.6.1//NONSGML v1.0//EN
CALSCALE:GREGORIAN
METHOD:PUBLISH
X-WR-CALNAME:MAJOSZ - Magyar Járműalkatrészgyártók Országos Szövetsége
X-ORIGINAL-URL:https://automotivesuppliers.hu
X-WR-CALDESC:Események MAJOSZ - Magyar Járműalkatrészgyártók Országos Szövetsége számára
REFRESH-INTERVAL;VALUE=DURATION:PT1H
X-Robots-Tag:noindex
X-PUBLISHED-TTL:PT1H
BEGIN:VTIMEZONE
TZID:UTC
BEGIN:STANDARD
TZOFFSETFROM:+0000
TZOFFSETTO:+0000
TZNAME:UTC
DTSTART:20230101T000000
END:STANDARD
END:VTIMEZONE
BEGIN:VEVENT
DTSTART;TZID=UTC:20230822T130000
DTEND;TZID=UTC:20230822T143000
DTSTAMP:20260425T162522
CREATED:20230811T105528Z
LAST-MODIFIED:20230811T105528Z
UID:10000647-1692709200-1692714600@automotivesuppliers.hu
SUMMARY:WEBINAR – Hogyan csökkentsd a karbantartási költségeidet?
DESCRIPTION:Kiknek szól ez a webinár?\nCégvezetőknek\, felsővezetőknek\, karbantartásvezetőknek és karbantartási területen dolgozó szakembereknek\, akik: \n\ncsökkenteni szeretnék karbantartási költségeiket;\nfejleszteni szeretnék karbantartási folyamataikat és ezzel optimalizálni szeretnék működési költségeiket;\njó gyakorlatokat\, azonnal használható megoldásokat szeretnének gyűjteni a karbantartási terület hatékonyságának növeléséhez;\nválaszokat keresnek karbantartási szervezetüknél még fennálló megoldatlan esetekre\, kérdésekre.\n\nHa csak egy kérdésre is igennel válaszoltál\, akkor a webinár Neked szól!\nAz eseményen való részvétel ingyenes de előzetes regisztrációhoz kötött.
URL:https://automotivesuppliers.hu/esemeny/webinar-hogyan-csokkentsd-a-karbantartasi-koltsegeidet/
CATEGORIES:webinar
ATTACH;FMTTYPE=:
END:VEVENT
END:VCALENDAR