BEGIN:VCALENDAR
VERSION:2.0
PRODID:-//MAJOSZ - Magyar Járműalkatrészgyártók Országos Szövetsége - ECPv6.6.1//NONSGML v1.0//EN
CALSCALE:GREGORIAN
METHOD:PUBLISH
X-ORIGINAL-URL:https://automotivesuppliers.hu
X-WR-CALDESC:Események MAJOSZ - Magyar Járműalkatrészgyártók Országos Szövetsége számára
REFRESH-INTERVAL;VALUE=DURATION:PT1H
X-Robots-Tag:noindex
X-PUBLISHED-TTL:PT1H
BEGIN:VTIMEZONE
TZID:UTC
BEGIN:STANDARD
TZOFFSETFROM:+0000
TZOFFSETTO:+0000
TZNAME:UTC
DTSTART:20230101T000000
END:STANDARD
END:VTIMEZONE
BEGIN:VEVENT
DTSTART;TZID=UTC:20230824T160000
DTEND;TZID=UTC:20230824T210000
DTSTAMP:20260425T162653
CREATED:20230731T112355Z
LAST-MODIFIED:20230731T112355Z
UID:10000646-1692892800-1692910800@automotivesuppliers.hu
SUMMARY:MAJOSZ TERASZ PARTY
DESCRIPTION:2023. augusztus 24-én az energetika alakulása\, megoldási\, támogatási lehetőség\, alternatív megoldások témájú terasz partit tartunk\, kiemelt vendégünk\, Steiner Attila\, az Energiaügyi Minisztérium\, Energetikáért és klímapolitikáért felelős államtitkára előadással készül\, ezt követően meghallgatja a vállalatok kérdéseit\, felvetéseit. \nProgramterv: \n16:00-16:05 Témafelvezetés\, Dr. Nyirő József\, MAJOSZ elnök \n16:05-16:45 Előadás\, Steiner Attila\, Energiaügyi Minisztérium Energetikáért és klímapolitikáért felelős államtitkára\n16:45-18:00 Kérdezz-felelek \n18:00 -21:00 Kötetlen beszélgetés \n<<<REGISZTRÁCIÓ>>> \nA rendezvényen való részvétel díja: 10.000 Ft+ÁFA/fő \nJelentkezési határidő: 2023. augusztus 21. 16 óra \nAmennyiben a jelentkezést követően mégsem tud személyesen részt venni\, kérjük\, legkésőbb 2023.08.22-ig írásban értesítsen minket. Ellenkező esetben a teljes részvételi díj kiszámlázásra kerül.
URL:https://automotivesuppliers.hu/esemeny/majosz-terasz-party/
CATEGORIES:terasztparty
ATTACH;FMTTYPE=:
END:VEVENT
END:VCALENDAR