BEGIN:VCALENDAR
VERSION:2.0
PRODID:-//MAJOSZ - Magyar Járműalkatrészgyártók Országos Szövetsége - ECPv6.6.1//NONSGML v1.0//EN
CALSCALE:GREGORIAN
METHOD:PUBLISH
X-WR-CALNAME:MAJOSZ - Magyar Járműalkatrészgyártók Országos Szövetsége
X-ORIGINAL-URL:https://automotivesuppliers.hu
X-WR-CALDESC:Események MAJOSZ - Magyar Járműalkatrészgyártók Országos Szövetsége számára
REFRESH-INTERVAL;VALUE=DURATION:PT1H
X-Robots-Tag:noindex
X-PUBLISHED-TTL:PT1H
BEGIN:VTIMEZONE
TZID:UTC
BEGIN:STANDARD
TZOFFSETFROM:+0000
TZOFFSETTO:+0000
TZNAME:UTC
DTSTART:20230101T000000
END:STANDARD
END:VTIMEZONE
BEGIN:VEVENT
DTSTART;VALUE=DATE:20230912
DTEND;VALUE=DATE:20230913
DTSTAMP:20260425T145434
CREATED:20230703T141620Z
LAST-MODIFIED:20230703T141620Z
UID:10000645-1694476800-1694563199@automotivesuppliers.hu
SUMMARY:NEXT 3D konferencia
DESCRIPTION:INNOVÁCIÓK 3D NYOMTATÁSSAL ADDITÍV GYÁRTÁS KONFERENCIA\n\n\n<<<részletek és regisztráció>>>
URL:https://automotivesuppliers.hu/esemeny/next-3d-konferencia/
LOCATION:Danubius Hotel Helia
CATEGORIES:konferencia
ATTACH;FMTTYPE=:
END:VEVENT
END:VCALENDAR