BEGIN:VCALENDAR
VERSION:2.0
PRODID:-//MAJOSZ - Magyar Járműalkatrészgyártók Országos Szövetsége - ECPv6.6.1//NONSGML v1.0//EN
CALSCALE:GREGORIAN
METHOD:PUBLISH
X-WR-CALNAME:MAJOSZ - Magyar Járműalkatrészgyártók Országos Szövetsége
X-ORIGINAL-URL:https://automotivesuppliers.hu
X-WR-CALDESC:Események MAJOSZ - Magyar Járműalkatrészgyártók Országos Szövetsége számára
REFRESH-INTERVAL;VALUE=DURATION:PT1H
X-Robots-Tag:noindex
X-PUBLISHED-TTL:PT1H
BEGIN:VTIMEZONE
TZID:UTC
BEGIN:STANDARD
TZOFFSETFROM:+0000
TZOFFSETTO:+0000
TZNAME:UTC
DTSTART:20230101T000000
END:STANDARD
END:VTIMEZONE
BEGIN:VEVENT
DTSTART;VALUE=DATE:20231011
DTEND;VALUE=DATE:20231013
DTSTAMP:20260425T131635
CREATED:20230227T091104Z
LAST-MODIFIED:20230227T091104Z
UID:10000622-1696982400-1697155199@automotivesuppliers.hu
SUMMARY:ELECTROSUB - KONFERENCIA ÉS KIÁLLÍTÁS AZ IPAR 4.0 JEGYÉBEN
DESCRIPTION:Az ELECTROSUB Konferencia és Kiállítás az Ipar4.0-hoz köthető innovatív technológiák koncentrált szakmai és üzleti fóruma. Frissített profillal jövőre immár 4. alkalommal kerül megrendezésre. \nELEKTRONIKA\, ELEKTROTECHNIKA\nDIGITÁLIZÁCIÓ\, AI\, IoT\nROBOTTECHNIKA\, AUTOMATIZÁCIÓ \nNapjainkban az autóiparban jelentős változások zajlanak. Az ELECTROSUB által megszólított iparagák az autóelektronika\, az Ipar 4.0 \, a digitalizáció\, a robottechnika és automatizálás kínálta lehetőségek és megoldások alkalmazása a fejlődés\, a hatékonyság záloga. Az e-mobilitás előretörése megállíthatatlan.\nAz ELECTROSUB üzleti\, szakmai fórumot\, találkozási pontot kínál a piaci szereplők számára\, hogy bemutassák ezeket a lehetőségeket\, személyes találkozások keretében szakmai és üzleti párbeszédet folytassanak. \nMIÉRT ELECTROSUB?\nAz Electrosub nemcsak konferencia\, hanem kiállítás is. Ez megkülönbözteti más\, hasonló rendezvényektől\, konferenciáktól. A kiállítási részvétel szélesebb körnek ad bemutatkozási lehetőséget\, ami a látogatói célcsoportokat jobban motiválja\, elérésüket hatékonyabbá teszi.\nA konferencia és kiállítás szoros szimbiózisban van egymással.\nA Konferencia a rendezvény teljes időtartama alatt\, 2 napon keresztül\, közvetlenül a kiállítás mellett zajlik. A szoros kapcsolatot azonban nemcsak a fizikai közelség jelenti. Az előadások sorát\, a szponzor- kiállítók és a szakmai partnerek által előterjesztett prezentációk adják\, amelyeket tartalmuk alapján csoportosítunk\, ez határozza meg a konferencia programját. Az előadás lehetősége szponzorációhoz kötött.\nA prezentációkkal szemben elvárás az innovációk\, újdonságok\, a megoldások bemutatása.\nA vevőkkel\, partnerekkel történő személyes találkozó nem korlátozódik a kávé szünetekre\, a standokon a szakmai beszélgetések\, üzleti találkozók a teljes 2 nap alatt zajlanak.\nA megjelenés egyszerű és költséghatékony\nKedvező csomagajánlatok megkönnyítik az előkészületeket. A részvevők megjelenésük tartalmi vonatkozásaira és potenciális partnereikre koncentrálhatnak. Ezen előnyök megőrzése érdekében a megjelenés ebben a formában lehetséges. \nHOGYAN LEHET CSATLAKOZNI AZ ELECTROSUB HOZ?\nA részvétel szponzorként vagy kiállítóként lehetséges. A szponzorok\, egyben kiállítók is\, akik aktív részesei\, előadói a konferenciának\, kiemelt megjelenítésben és promócióban részesülnek. \nAz ELECTROSUB\, szakmai támogatója\, a MAJOSZ tagjai részére kedvezményes megjelenést biztosít! \nRÉSZLETES TÁJÉKOZTATÓ
URL:https://automotivesuppliers.hu/esemeny/electrosub-konferencia-es-kiallitas-az-ipar-4-0-jegyeben/
CATEGORIES:kiállítás,konferencia
ATTACH;FMTTYPE=:
END:VEVENT
END:VCALENDAR