BEGIN:VCALENDAR
VERSION:2.0
PRODID:-//MAJOSZ - Magyar Járműalkatrészgyártók Országos Szövetsége - ECPv6.6.1//NONSGML v1.0//EN
CALSCALE:GREGORIAN
METHOD:PUBLISH
X-WR-CALNAME:MAJOSZ - Magyar Járműalkatrészgyártók Országos Szövetsége
X-ORIGINAL-URL:https://automotivesuppliers.hu
X-WR-CALDESC:Események MAJOSZ - Magyar Járműalkatrészgyártók Országos Szövetsége számára
REFRESH-INTERVAL;VALUE=DURATION:PT1H
X-Robots-Tag:noindex
X-PUBLISHED-TTL:PT1H
BEGIN:VTIMEZONE
TZID:UTC
BEGIN:STANDARD
TZOFFSETFROM:+0000
TZOFFSETTO:+0000
TZNAME:UTC
DTSTART:20230101T000000
END:STANDARD
END:VTIMEZONE
BEGIN:VEVENT
DTSTART;TZID=UTC:20231020T080000
DTEND;TZID=UTC:20231020T163000
DTSTAMP:20260425T131613
CREATED:20230630T093828Z
LAST-MODIFIED:20230630T093828Z
UID:10000643-1697788800-1697819400@automotivesuppliers.hu
SUMMARY:DIGILEAN ROAD SHOW – KECSKEMÉT
DESCRIPTION:Találkozzon személyesen a Magyar DigiLean Egyesület szakértőivel 2023. október 20-án\, Kecskeméten!\n \nA rendezvény előre haladtával minden regisztrált résztvevő egy-egy fókuszált\, tematikus workshop foglalkozás során bepillanthat az egyes lean és digitalizációs érettségi szintek világába. Ötleteket\, megoldásokat\, javaslatokat adunk át\, esettanulmányok elemzésén keresztül\, csoportmunkában dolgozunk együtt. A műhelymunkák az A-B-C csoportok forgásával valósulnak meg. \nEzek a szintek: \n\nDigitalizációs eszközök és megoldások a gyakorlatban (Field szint)\nFolyamatszabályzás és adatfeldolgozás (Process szint)\nVállalati lean és digitalizációs stratégiai kérdések (Enterprise szint)\n\nAz egyes szinteknél közreműködő DigiLean tagvállalatok: \n\nField szint: Turck Hungary Kft\, Simplexion Informatikai Kft\, GEToolbox Europe Kft.\nProcess szint:  KÖR Innovatív Zrt. / Trigo Precíziós Méréstechnika Kft.\, Falcon-Vision Zrt\, Leanbox\, MIRO Digital Technologies Kft.\nEnterprise szint: Aurum Oktatási Központ Kft / LeanCenter\, Norex ERP Consulting Kft\, EPIC Innolabs Nonprofit Kft\, Enterprise Communication Magyarország Kft\, Seacon Europe Informatikai Fejlesztő és Tanácsadó Kft.\n\nPROGRAM:\n8:00 – 8:30: Regisztráció \n8:30 – 8:45: Megnyitó \n8:45 – 9:00: Előadás szervezés alatt \n9:00 – 9:15: Előadás szervezés alatt \n9:20 – 9:30: Kávészünet \nWorkshop foglalkozások az alábbi megosztásban: \n9:30 – 11:00: A csoport \n\n15 perc: Résztvevők bemutatkozása\n5-5 perc: Probléma felvetés/esettanulmány bemutatás a DigiLean Egyesület adott képviselői által\n45 perc: Brainstorming\n5 perc: Zárás\, kérdezz-felelek\n\n11:10 – 12:40:  B csoport \n\n15 perc: Résztvevők bemutatkozása\n5-5 perc: Probléma felvetés/esettanulmány bemutatás a DigiLean Egyesület adott képviselői által\n45 perc: Brainstorming\n5 perc: Zárás\, kérdezz-felelek\n\n12:45 – 13:30: Ebédszünet \n13:30 – 15:00: C csoport \n\n15 perc: Résztvevők bemutatkozása\n5-5 perc: Probléma felvetés/esettanulmány bemutatás a DigiLean Egyesület adott képviselői által\n45 perc: Brainstorming\n5 perc: Zárás\, kérdezz-felelek\n\n15:00 – 15:30: Összefoglaló\, tanulságok\, Kérdések-Válaszok \n15:30 – 16:00: Networking\, Zárás \nProblémája van\, melyben a szakértőink segítségére lehetnek? Küldje el az info@digilean.hu email címre és az eseményen már a megoldással\, javaslatokkal várjuk! \nA részvétel ingyenes\, de regisztrációhoz kötött! \nA regisztráció határideje: 2023. október 13. \n<<<részletek és regisztráció>>>
URL:https://automotivesuppliers.hu/esemeny/digilean-road-show-kecskemet/
LOCATION:Neumann János Egyetem\, Kecskemét
CATEGORIES:road show
END:VEVENT
END:VCALENDAR