BEGIN:VCALENDAR
VERSION:2.0
PRODID:-//MAJOSZ - Magyar Járműalkatrészgyártók Országos Szövetsége - ECPv6.6.1//NONSGML v1.0//EN
CALSCALE:GREGORIAN
METHOD:PUBLISH
X-ORIGINAL-URL:https://automotivesuppliers.hu
X-WR-CALDESC:Események MAJOSZ - Magyar Járműalkatrészgyártók Országos Szövetsége számára
REFRESH-INTERVAL;VALUE=DURATION:PT1H
X-Robots-Tag:noindex
X-PUBLISHED-TTL:PT1H
BEGIN:VTIMEZONE
TZID:UTC
BEGIN:STANDARD
TZOFFSETFROM:+0000
TZOFFSETTO:+0000
TZNAME:UTC
DTSTART:20240101T000000
END:STANDARD
END:VTIMEZONE
BEGIN:VEVENT
DTSTART;TZID=UTC:20240411T080000
DTEND;TZID=UTC:20240411T200000
DTSTAMP:20260425T032345
CREATED:20240308T185743Z
LAST-MODIFIED:20240308T185743Z
UID:10000656-1712822400-1712865600@automotivesuppliers.hu
SUMMARY:22. Econ Konferencia – Minden\, ami szimuláció!
DESCRIPTION:Kedves Partnerünk\,\n a 22. Econ Konferencia 2024. április 11-én\, csütörtökön kerül megrendezésre.\nTalálkozzon a szimulációs szakma élvonalával!\nKérjük\, regisztráljon és foglalja be naptárában ezt a napot!Helyszín: Holiday Inn Budaörs – 2040 Budaörs\, Rubik Ernő u. 2.\n08:30-09:00 Regisztráció\n09:00-17:20 Konferencia (plenáris és szekció blokkok\, kiállító tér)  17:20-20:00 Pódiumbeszélgetés\, állófogadás és networking\nA tervezett részletes program az esemény oldalán érhető el.\nA változtatás jogát fenntartjuk. \nFővédnökök:\nDr. Ferencz Orsolya – űrkutatásért felelős miniszteri biztos\nDr. Porkoláb Imre – védelmi innovációért felelős miniszteri biztos \nPlenáris: \n\n\nVirtuális fejlesztési lehetőségek a magyar védelmi iparban\nHUNOR program űrkutatási tevékenységének kapcsolódása az innovációs ökoszisztémához\nKutatások mesterséges intelligencia alkalmazásával\nFejlesztési irányok a hidrogén szállításában és tárolásában\nMesterséges intelligencia a szimulációban: Ansys SimAI\nSzimuláció alkalmazása az ipari automatizálásban\nDélutáni kerekasztal-beszélgetés: Trendek és mesterséges intelligencia a termékfejlesztésben\n\nA. szekció:\n\nÁramlási veszteség csökkentése a turbulencia kialakulásának késleltetésével\nRészecskealapú áramlástani szimuláció Particleworks szoftverrel\nÁramlástani szimulációk alkalmazása generátor fejlesztése során\nSzerszámnyomás és szimuláció\nVíztömör csatlakozó fejlesztése többfokozatú fékkopásjelző kábelhez\nHőcserélők modellezése Ansys Fluent környezetben\n\nB. szekció:\n\nIrreverzibilis energiaelnyelés vasúti járművek ütközése során – első lépések a deformációs csövek termékfejlesztése terén\nTeljesítmény végfokok analízise Q3D Extractor segítségével\nVasúti jármű vázszerkezetének megerősítése szilárdásgtani számítások segítségével\nUtastér figyelő radar HIL/SIL környezetének kialakítása\nElektromos szervokormányrendszer termikus analízise\nSzimuláció jelentősége a szerszámgyártásban\n\n Részvételi díj az ipari szereplők részére ~150€/fő + áfa.\nAkadémiai szereplők (oktatók és diákok) számára ~50€/fő + áfa.\nAz állófogadásra az előzetesen jelentkező résztvevőket vendégül látjuk.\n\n REGISZTRÁCIÓ
URL:https://automotivesuppliers.hu/esemeny/22-econ-konferencia-minden-ami-szimulacio/
CATEGORIES:konferencia
ATTACH;FMTTYPE=:
END:VEVENT
END:VCALENDAR