BEGIN:VCALENDAR
VERSION:2.0
PRODID:-//MAJOSZ - Magyar Járműalkatrészgyártók Országos Szövetsége - ECPv6.6.1//NONSGML v1.0//EN
CALSCALE:GREGORIAN
METHOD:PUBLISH
X-ORIGINAL-URL:https://automotivesuppliers.hu
X-WR-CALDESC:Események MAJOSZ - Magyar Járműalkatrészgyártók Országos Szövetsége számára
REFRESH-INTERVAL;VALUE=DURATION:PT1H
X-Robots-Tag:noindex
X-PUBLISHED-TTL:PT1H
BEGIN:VTIMEZONE
TZID:UTC
BEGIN:STANDARD
TZOFFSETFROM:+0000
TZOFFSETTO:+0000
TZNAME:UTC
DTSTART:20240101T000000
END:STANDARD
END:VTIMEZONE
BEGIN:VEVENT
DTSTART;VALUE=DATE:20240423
DTEND;VALUE=DATE:20240426
DTSTAMP:20260425T032345
CREATED:20240302T175750Z
LAST-MODIFIED:20240302T175750Z
UID:10000655-1713830400-1714089599@automotivesuppliers.hu
SUMMARY:Szakmai delegációs út a BUS2BUS kiállításra
DESCRIPTION:Kíváncsi a jövő közlekedési megoldásaira? Szeretne tájékozódni a buszgyártók és szolgáltatók piacáról? Akkor vegyen részt áprilisban a kétnapos szakmai látogatáson Berlinben a BUS2BUS kiállításon. \nA program számos különleges eseményen (zártkörű szakmai találkozó\, tesztvezetés\, gálavacsora) való részvételt\, továbbá a kiállítás vezetett és egyéni meglátogatását is magába foglalja. \nIdőpont 2024. április 23-25. \nTovábbi információ & jelentkezés \nKontakt: Messe Berlin magyar képviselet\, Simon-LutringTünde\n+36-20-912-5101\, tunde.simon-lutring@exponetwork.hu
URL:https://automotivesuppliers.hu/esemeny/szakmai-delegacios-ut-a-bus2bus-kiallitasra/
CATEGORIES:B2B találkozó,kiállítás,konferencia
ATTACH;FMTTYPE=:
END:VEVENT
BEGIN:VEVENT
DTSTART;VALUE=DATE:20240423
DTEND;VALUE=DATE:20240426
DTSTAMP:20260425T032345
CREATED:20240416T172311Z
LAST-MODIFIED:20240416T172311Z
UID:10000661-1713830400-1714089599@automotivesuppliers.hu
SUMMARY:KONICA MINOLTA IOT LIVE SHOW 2024
DESCRIPTION:Tudjuk\, hogy a technológia rohamos fejlődése mellett nehéz megtalálni azokat a megoldásokat\, amik valóban hozzájárulnak a céged sikeréhez. Az ilyen döntések mindig nagy felelősséggel járnak\, hiszen a cél\, hogy a vállalkozásod hatékonyabb és versenyképesebb legyen. \nA KONICA MINOLTA IOT LIVE SHOW 2024 tökéletes alkalom arra\, hogy személyesen is megnézhesd a közel 100 kiállító és az IOT megoldás-szállítói verseny pályamunkái révén\, miként lehet a vállalkozásodat IOT és AI vezérelt technológiákkal fejleszteni. \nA Konica Minolta standjánál az innovációk megismerésével megtudhatod: \n\nHogyan teheted intelligenssé megfigyelő rendszeredet? Mindezt akár új kamerák beszerzése nélkül\, a régi kamerák extra funkcionalitással történő felokosításával.\n\nhttps://www.konicaminolta.hu/hu-hu/vss/vms \n\nHogyan segítheted gépi látással a KÁRMEGELŐZÉST? A Konica Minolta tűzmegelőzésre intelligens Mobotix hőkamerás megoldását kínálja. A korai tűzveszély-észlelés révén lehetővé teszi a gyors reagálást\, minimalizálja az emberi sérülések és pénzügyi veszteségek esélyét\, automatizált figyelmeztetések révén pedig többféle intézkedést tesz lehetővé hő- vagy tűzveszély észlelésekor.\n\nhttps://www.youtube.com/watch?v=BZDIP9B8b-k \n\nHogyan támogathatod a gépi látással a GYÁRTÁST? Videó alapú vizuális minőség-ellenőrzés megoldásunkkal már a gyártás korai szakaszában nagy pontossággal kiszűrhetők a munkadarabokon a felületi hibák\, az idegeden anyagok\, vagy egy berendezés összeszerelésénék a hibái és hiányzó alkatrészei\, melyeket a fáradékony munkaerő vagy az emberi szem észre sem vesz.\n\nhttps://www.youtube.com/watch?v=NZ3wDZndO3g \n\nMiként érhetsz el egy magasabb szintű munkahelyi biztonsági környezetet AI vezérelt PPE detektálással? A rendszer lehetővé teszi egy biztonságos és védett munkakörnyezet kialakítását minden egyes alkalmazott számára\, automatizált ellenőrzési folyamatok révén\, amelyek valós időben detektálják a PPE-kkel és viselésükkel kapcsolatos eltéréseket\, így hozzájárulva az azonnali korrekciós intézkedések meghozatalához és a szennyeződések\, valamint fertőzések kockázatának csökkentéséhez.\n\nhttps://www.youtube.com/watch?v=fndHSBHEvR4 \nA rendezvényről\,  a teljes programtervről valamint a regisztráció menetéről bővebb információt a www.konicaminolta.hu/iot oldalon találsz!
URL:https://automotivesuppliers.hu/esemeny/konica-minolta-iot-live-show-2024/
LOCATION:INNOELECTRO KIÁLLÍTÁS
CATEGORIES:kiállítás,konferencia
ATTACH;FMTTYPE=:
END:VEVENT
END:VCALENDAR