BEGIN:VCALENDAR
VERSION:2.0
PRODID:-//MAJOSZ - Magyar Járműalkatrészgyártók Országos Szövetsége - ECPv6.6.1//NONSGML v1.0//EN
CALSCALE:GREGORIAN
METHOD:PUBLISH
X-ORIGINAL-URL:https://automotivesuppliers.hu
X-WR-CALDESC:Események MAJOSZ - Magyar Járműalkatrészgyártók Országos Szövetsége számára
REFRESH-INTERVAL;VALUE=DURATION:PT1H
X-Robots-Tag:noindex
X-PUBLISHED-TTL:PT1H
BEGIN:VTIMEZONE
TZID:UTC
BEGIN:STANDARD
TZOFFSETFROM:+0000
TZOFFSETTO:+0000
TZNAME:UTC
DTSTART:20240101T000000
END:STANDARD
END:VTIMEZONE
BEGIN:VEVENT
DTSTART;TZID=UTC:20240507T090000
DTEND;TZID=UTC:20240510T160000
DTSTAMP:20260425T013530
CREATED:20240426T100952Z
LAST-MODIFIED:20240426T100952Z
UID:10000662-1715072400-1715356800@automotivesuppliers.hu
SUMMARY:
DESCRIPTION:AUTOMOTIVE HUNGARY 2024. május 7-10. között immár 12. alkalommal!\nAz AUTOMOTIVE HUNGARY kiállítás több\, mint egy évtizede azzal a céllal jött létre\, hogy a magyar járműipar szakmai szereplői\, a magyar autógyártóktól kezdve a beszállítókon át a kis- és középvállalkozásokig\, találkozhassanak egymással.\nA 12. AUTOMOTIVE HUNGARY társrendezvénye a 11. IPAR NAPJAI Nemzetközi ipari szakkiállítás. \nA rendezvény mindig is elkötelezett volt a legújabb technológiák és trendek bemutatása iránt\, így számunkra természetes\, hogy az idei kiállítás és a hozzá kapcsolódó konferenciák középpontjában a mesterséges intelligencia\, az 5G\, az elektromos hajtás és az ipar 4.0 áll.\nAz AUTOMOTIVE HUNGARY olyan programokat és találkozási\, együttműködési lehetőségeket nyújt\, amelyek segítenek a kiállítóknak a kitűzött céljaik elérésben\, a fejlődésben\, vagy abban\, hogy kérdéseikre válaszokat találjanak. Bármely okból érkeznek\, azon dolgozunk\, hogy az esemény végén mindenki elégedetten induljon haza. \nVÁRJUK ÖNT IS A G pavilon MAJOSZ KOLLEKTÍV STANDJÁN! \nA rendezvény szervezője a Hungexpo Zrt.\, a Magyar Járműalkatrészgyártók Országos Szövetsége (MAJOSZ) a Hungexpo Zrt. szakmai partnere.
URL:https://automotivesuppliers.hu/esemeny/3311/
LOCATION:Kezdőlap
CATEGORIES:kiállítás
ATTACH;FMTTYPE=:
END:VEVENT
BEGIN:VEVENT
DTSTART;TZID=UTC:20240508T102000
DTEND;TZID=UTC:20240508T160000
DTSTAMP:20260425T013530
CREATED:20240426T123645Z
LAST-MODIFIED:20240426T123645Z
UID:10000663-1715163600-1715184000@automotivesuppliers.hu
SUMMARY:B2B beszállítói fórum
DESCRIPTION:Az Automotive Hungary kiállítás harmadik napján\, 2024. május 8-án\, szerdán\, a HIPA\, a HUNGEXPO\, a MAGE és a MAJOSZ üzletember találkozót szervez.\nIdőpont: 2024.05.08. 10:20 \nHelyszín: CK – Kongresszusi Központ – Galéria szint (I. emelet) \nA rendezvényen – előre egyeztetett időpontban – lehetőségük nyílik új üzleti kapcsolatok kialakítására\, rövid megbeszélések folytatására a jövőbeni együttműködés lehetőségeiről. A beszerző cégek által keresett termékek/szolgáltatások/technológiák listája az https://automotivexpo.hu/programok/b2bcalvid/ oldalon érhető el. \nAz időpont-egyeztetéshez regisztrációra van szükség. Kérjük Önöket\, amennyiben érdeklődnek a rendezvény iránt\, az b2b_asszisztens@hungexpo.hu e-mail címen jelezzék részvételi szándékukat. \nÉrdeklődés esetén egy regisztrációs linket kapnak\, amelyen keresztül beregisztrálhatnak a kiállításra\, majd az e-mailben kapott felhasználónévvel és jelszóval az üzletember találkozóra egyaránt. A regisztrációt követően lesz lehetőségük a találkozó időpontjának meghatározására. (A link egyszeri regisztrációra érvényes.) \nFelhívjuk szíves figyelmüket arra\, hogy a találkozó időpontja akkor tekinthető véglegesnek\, ha a nagyvállalat ezt e-mailben visszaigazolta.
URL:https://automotivesuppliers.hu/esemeny/b2b-beszallitoi-forum/
LOCATION:Kezdőlap
CATEGORIES:B2B találkozó
ATTACH;FMTTYPE=:
END:VEVENT
END:VCALENDAR