BEGIN:VCALENDAR
VERSION:2.0
PRODID:-//MAJOSZ - Magyar Járműalkatrészgyártók Országos Szövetsége - ECPv6.6.1//NONSGML v1.0//EN
CALSCALE:GREGORIAN
METHOD:PUBLISH
X-WR-CALNAME:MAJOSZ - Magyar Járműalkatrészgyártók Országos Szövetsége
X-ORIGINAL-URL:https://automotivesuppliers.hu
X-WR-CALDESC:Események MAJOSZ - Magyar Járműalkatrészgyártók Országos Szövetsége számára
REFRESH-INTERVAL;VALUE=DURATION:PT1H
X-Robots-Tag:noindex
X-PUBLISHED-TTL:PT1H
BEGIN:VTIMEZONE
TZID:UTC
BEGIN:STANDARD
TZOFFSETFROM:+0000
TZOFFSETTO:+0000
TZNAME:UTC
DTSTART:20240101T000000
END:STANDARD
END:VTIMEZONE
BEGIN:VEVENT
DTSTART;TZID=UTC:20240531T083000
DTEND;TZID=UTC:20240531T173000
DTSTAMP:20260425T000730
CREATED:20240309T174209Z
LAST-MODIFIED:20240309T174209Z
UID:10000659-1717144200-1717176600@automotivesuppliers.hu
SUMMARY:XVII. LEAN KONFERENCIA
DESCRIPTION:Digitális transzformáció és energiahatékonyság\nHelyszín: Budapest\, Hotel Benczúr \nIdőpont: 2024. május 31. \nPROGRAM \nAGILE\, LEAN OFFICE\, DIGITALIZÁCIÓ \n08:30-09:00         Regisztráció (Büfé asztal várja Vendégeinket) \n09:00-09:10         Megnyitó – Dr. Németh Balázs\, Ügyvezető igazgató\, KVALIKON KFT. \n09:10-09:40         „Lean365: Hogyan válhat dinamikussá és jövőálló szervezetté egy ingatlanhitel back office?” \n                            Előadó: Illés Nóra\, főosztályvezető\, Lakossági Ingatlan Hitelek és LTP Betét Back-Office Főosztály\, Retail Divízió\, OTP BANK \n09:40-10:10         „Meddig Lean….honnan Digital?” \n                            Előadó: Pudleiner Rezső\, TEOA/Digital Factory Site Leader\, TYCO ELECTRONICS CONNECTIVITY \n10:10-10:40         „AI alapú döntéstámogató rendszerek és folyamatértékelések” \n                            Előadó: Szenes Attila\, Head of Processes\, DIGIC PICTURES \n10:40-11:00         Kávészünet \nLEAN ÉS KAIZEN A GYAKORLATBAN \n11:00-11:30       „Problémamegoldó módszerek a Mercedes-Benz Manufacturing Hungary Kft.-nél (SixSigma / Deltalyze)” \nElőadó: Budai Rudolf\, Master Black Belt\, QM-AS\, MERCEDES-BENZ MANUFACTURING \n11:30-12:00       „Értékáramfeltérképezés és fejlesztés: Összefüggéselemzésen alapuló folyamatfejlesztés” \n                          Előadók: Hámori Bálint\, Operational Excellence Specialist\, Németh Attila és Hudáky Péter\, Digital Project Managerek\, EUROAPI Hungary  (the SANOFI COMPANY) \n12:00-12:30     Vitafórum \n12:30-13:30     Ebédszünet \n13:30-14:00     „Speciális jellemzők kezelése a VDA alapján” \n                        Előadó: Heinold László\, Lean Platform Engineer\, CONTINENTAL \n14:00-14:30    „SIX SIGMA PROJEKTEK TAPASZTALATAI\, Six Sigma versus Lean megközelítés” \nElőadó: Dr. Németh Balázs\, ügyvezető igazgató\, KVALIKON \n14:30-15:00    „az előadás címe egyeztetés alatt” \nElőadó: Kovács Anikó\, Area Manager\, DURABLE \n 15:00-15:30     Kávészünet \nLEAN & GREEN – ENERGIAHATÉKONYSÁG \n15:30-16:00     „Energia stratégiát mindenkinek! – avagy út a reziliens energiagazdálkodáshoz” \n                        Előadó: Puskás László\, főosztályvezető\, MVM PAKSI ATOMERŐMŰ \n16:00-16:30    „Energiahatékony módszerek és megoldások a Grundfos székesfehérvári gyárában” \n                        Előadó: Keller Zoltán\, Lead CI Specialist\, GRUNDFOS MAGYARORSZÁG \n16:30-17:15     Vitafórum
URL:https://automotivesuppliers.hu/esemeny/xvii-lean-konferencia/
CATEGORIES:konferencia
ATTACH;FMTTYPE=:
END:VEVENT
END:VCALENDAR