BEGIN:VCALENDAR
VERSION:2.0
PRODID:-//MAJOSZ - Magyar Járműalkatrészgyártók Országos Szövetsége - ECPv6.6.1//NONSGML v1.0//EN
CALSCALE:GREGORIAN
METHOD:PUBLISH
X-WR-CALNAME:MAJOSZ - Magyar Járműalkatrészgyártók Országos Szövetsége
X-ORIGINAL-URL:https://automotivesuppliers.hu
X-WR-CALDESC:Események MAJOSZ - Magyar Járműalkatrészgyártók Országos Szövetsége számára
REFRESH-INTERVAL;VALUE=DURATION:PT1H
X-Robots-Tag:noindex
X-PUBLISHED-TTL:PT1H
BEGIN:VTIMEZONE
TZID:Europe/Budapest
BEGIN:DAYLIGHT
TZOFFSETFROM:+0100
TZOFFSETTO:+0200
TZNAME:CEST
DTSTART:20240331T010000
END:DAYLIGHT
BEGIN:STANDARD
TZOFFSETFROM:+0200
TZOFFSETTO:+0100
TZNAME:CET
DTSTART:20241027T010000
END:STANDARD
END:VTIMEZONE
BEGIN:VEVENT
DTSTART;TZID=Europe/Budapest:20240705T083000
DTEND;TZID=Europe/Budapest:20240705T133000
DTSTAMP:20260424T223854
CREATED:20240629T103752Z
LAST-MODIFIED:20240629T103752Z
UID:10000666-1720168200-1720186200@automotivesuppliers.hu
SUMMARY:II. CU.BE digitalizációs workshop
DESCRIPTION:2024. július 5-i digitalizációs workshopot tartunk a Bosch Rexroth CU.BE Budapest ipari innovációs élményközpontjában \nProgramterv: \n8:30 – 9:00 Érkezés és regisztráció \n9:00 – 9:15 Köszöntő \n9:15 – 9:30 Pályázati lehetőségek ismertetése \n9:30 – 10:15 Előadás – Digitalizáció​\, az ipari technológia új​ korszaka \n10:15 – 10:30 Kávészünet\, networking \n10:30 – 11:30 Workshop \n11:30 – 12:15 Ebéd \n12:15 – 13:15 CU.BE túra \n13:15 – 13:30 Összegzés és zárszó \nA részvétel ingyenes\, de regisztrációhoz kötött!Részvételi szándékát kérjük\, jelezze az alábbi gombra kattintva megjelenő regisztrációs űrlapon keresztül!Az elérhető helyek száma korlátozott\, a regisztrációkat a beérkezés sorrendjében rögzítjük!\nREGISZTRÁCIÓ
URL:https://automotivesuppliers.hu/esemeny/ii-cu-be-digitalizacios-workshop/
CATEGORIES:nyíltnap,workshop
ATTACH;FMTTYPE=image/png:https://automotivesuppliers.hu/wp-content/uploads/2024/06/Bosch-nyilt-nap-2.png
END:VEVENT
END:VCALENDAR