BEGIN:VCALENDAR
VERSION:2.0
PRODID:-//MAJOSZ - Magyar Járműalkatrészgyártók Országos Szövetsége - ECPv6.6.1//NONSGML v1.0//EN
CALSCALE:GREGORIAN
METHOD:PUBLISH
X-WR-CALNAME:MAJOSZ - Magyar Járműalkatrészgyártók Országos Szövetsége
X-ORIGINAL-URL:https://automotivesuppliers.hu
X-WR-CALDESC:Események MAJOSZ - Magyar Járműalkatrészgyártók Országos Szövetsége számára
REFRESH-INTERVAL;VALUE=DURATION:PT1H
X-Robots-Tag:noindex
X-PUBLISHED-TTL:PT1H
BEGIN:VTIMEZONE
TZID:Europe/Budapest
BEGIN:DAYLIGHT
TZOFFSETFROM:+0100
TZOFFSETTO:+0200
TZNAME:CEST
DTSTART:20240331T010000
END:DAYLIGHT
BEGIN:STANDARD
TZOFFSETFROM:+0200
TZOFFSETTO:+0100
TZNAME:CET
DTSTART:20241027T010000
END:STANDARD
END:VTIMEZONE
BEGIN:VEVENT
DTSTART;TZID=Europe/Budapest:20240917T083000
DTEND;TZID=Europe/Budapest:20240917T120000
DTSTAMP:20260424T194110
CREATED:20240629T104642Z
LAST-MODIFIED:20240903T132706Z
UID:10000667-1726561800-1726574400@automotivesuppliers.hu
SUMMARY:MAJOSZ Quality Club powered by TRIGO
DESCRIPTION:2024. szeptember 17-én folytatódik a MAJOSZ Quality Club powered by TRIGO\, melynek célja a szakmai párbeszéd\, tapasztalatmegosztás és a vállalatokon átívelő kapcsolatépítés elősegítése. \nHarmadik alkalmunk témája: Aktualitások a beszállítói minőségirányítás területén \nKerekasztalbeszélgetésünkre minden\, a témában érintett minőségügyi szakembert\, vezetőt szeretettel várunk. A programmal célunk a közvetlen tapasztalatcsere facilitálása. \nA rendezvény szakmai moderátora: Szatmári-Jászi Eszter\, a Robert Bosch Elektronika Kft. Group Leader of Customer Quality Engineers \nHelyszín: Café Restaurant Vouge (1137 Budapest\, Carl Lutz rkp. XIII/19 raszter) \nProgramterv:\n08:30 – 09:00 Vendégvárás\, regisztráció\n09:00 – 09:05 Köszöntő – Dr. Nyirő József\, MAJOSZ elnök\n09:05 – 09:10 Köszöntő – Herbály Péter\, TRIGO GROUP Global Resident Engineering Director; Continental Europe Sales Vice President\n09:10 – 09:30 Témafelvezetés – Szatmári-Jászi Eszter\, a Robert Bosch Elektronika Kft. Group Leader of Customer Quality Engineers\n09:30 – 12:00 Szakmai beszélgetés\, megoldási javaslatok \nKerekasztalbeszélgető partnerek:\nBaumann Máté\, TRIGO Group – Supply Chain Specialist\nCsonka Dávid\, Robert Bosch Automotive Steering Kft. Beszállítói minőségbiztosítási vezető\nDemeter Zsolt\, Alpsalpine Hungary Factory Director\nFekete Balázs\, BMW Supplier Development Consultant\nNagy Tamás\, Haldex – SAF Holland group Regional SQA Manager EMEA \n REGISZTRÁCIÓ \nA rendezvényen való részvétel díja: 15.000 Ft+ÁFA/fő \nJelentkezési határidő: 2024.09.13. 17 óra
URL:https://automotivesuppliers.hu/esemeny/majosz-quality-club-powered-by-trigo/
CATEGORIES:kerekasztalbeszélgetés,üzleti reggeli
ATTACH;FMTTYPE=image/png:https://automotivesuppliers.hu/wp-content/uploads/2024/06/QC3.png
END:VEVENT
END:VCALENDAR