BEGIN:VCALENDAR
VERSION:2.0
PRODID:-//MAJOSZ - Magyar Járműalkatrészgyártók Országos Szövetsége - ECPv6.6.1//NONSGML v1.0//EN
CALSCALE:GREGORIAN
METHOD:PUBLISH
X-ORIGINAL-URL:https://automotivesuppliers.hu
X-WR-CALDESC:Események MAJOSZ - Magyar Járműalkatrészgyártók Országos Szövetsége számára
REFRESH-INTERVAL;VALUE=DURATION:PT1H
X-Robots-Tag:noindex
X-PUBLISHED-TTL:PT1H
BEGIN:VTIMEZONE
TZID:UTC
BEGIN:STANDARD
TZOFFSETFROM:+0000
TZOFFSETTO:+0000
TZNAME:UTC
DTSTART:20240101T000000
END:STANDARD
END:VTIMEZONE
BEGIN:VEVENT
DTSTART;VALUE=DATE:20241003
DTEND;VALUE=DATE:20241005
DTSTAMP:20260424T174918
CREATED:20240119T090646Z
LAST-MODIFIED:20241001T084605Z
UID:10000652-1727913600-1728086399@automotivesuppliers.hu
SUMMARY:MAJOSZ JÁRMŰIPARI KONFERENCIA
DESCRIPTION:A RENDEZVÉNY FŐVÉDNÖKEI \nNAGY MÁRTON\, GAZDASÁGFEJLESZTÉSI MINISZTER \nLANTOS CSABA\, ENERGIAÜGYI MINISZTER \n A rendezvény védnökei: \nDr. Kaderják Péter\, Magyar Akkumulátor Szövetség ügyvezetője \nLepsényi István\, Magyar Hidrogéntechnológiai Szövetség elnöke \nVigh László\, Országgyűlési képviselő \nBalaicz Zoltán\, Zalaegerszeg Város Polgármestere \nPROGRAM \n2024.10.03. péntek\, 17:00 – 23:59 \n17:00 – 18:00 Szaunaszeánsz (opcionális) \n18:00 – 18:05 Köszöntő – Dr. Nyirő József\, MAJOSZ elnök \n18:00 – 19:30 Svédasztalalos vacsora a Willis Hotelben \n19:30 – 20:00 Előadások \n20:00 – 21:30 Kézműves sörkóstoló \n21:30-23:59 Kötetlen beszélgetés…. \n2024.10.04. péntek\, 9:00 – 18:00 \nZalaegerszeg\, ZalaZONE Járműipari Tesztpálya Konferenciaközpont \n08:00 – 09:00 Regisztráció \n09:00 – 09:10 Megnyitó – Dr. Nyirő József\, elnök\, MAJOSZ \n09:10 – 09:15 Köszöntő – Vigh László\, Országgyűlési képviselő \n09:15 – 09:20 Köszöntő – Balaicz Zoltán\, Polgármester\, Zalaegerszeg \n09:20 – 09:30 Köszöntő – Dr. Palkovics László\, Autóipari Próbapálya Zala Kft. ügyvezető \n09:30 – 10:00 Nyitóelőadás – KKV szektor versenyképességének fejlesztése – Szabados Richárd\, NGM KKV fejlesztéséért és technológiáért felelős államtitkár \n10:00 – 10:20 Előadás – Gazdaságfejlesztési irányok\, iparstratégia – dr. Nagy Ádám\, NGM iparügyekért felelős helyettes államtitkár \n10:20 – 10:40 Előadás – A járműipari helyzete\, jövője a multivállalat szemszögéből – Kemler András\, Bosch csoport műszaki területekért felelős ügyvezetője Magyarországon és az Adria régióban \n10:40 – 11:00 Előadás – Finanszírozási rendszer jövője és az ESG kihívásai – Krisán László\, KAVOSZ és ESG Szövetség elnöke \n11:00 – 11:20 Témafelvezető előadás – Járműipari helyzetjelentés – Ésik Róbert\, Ernst&Young Tanácsadó Kft. partnere \n11:20 – 12:10 Kerekasztalbeszélgetés – Járműipari helyzet Magyarországon \nmoderátor: Rózsa Tamás\, TopTierConsultants Kft. ügyvezető \nbeszélgetőpartnerek: \nDapsy Zoltán\, Continental Automotive Hungary Kft Ügyvezető igazgató \nUrbán László\, Magyar Suzuki Zrt. igazgatósági tanácsadó \nJankovics Roland\, Karsai Holding Zrt. cégvezető \nMesics Olívia\, Opel Szentgotthárd Kft.\, Stellantis gyárigazgató \nPéter Ágota\, Flex Zalaegerszeg ügyvezető \nUrbányi László\, Rába Járműipari Alkatrészgyártó Kft. ügyvezető \n12:10 – 13:00 állófogadás \n13:00 – 13:20 Előadás – Dr. Bihari Péter\, BME oktatási rektorhelyettes \n13:20 – 13:40 Előadás – Hidrogénipar aktualitásai\, beszállítási lehetőségek – Lepsényi István\, Magyar Hidrogéntechnológiai Szövetség elnöke \n13:40 – 14:00 Előadás – Dr. Kaderják Péter\, Magyar Akkumulátor Szövetsége ügyvezetője \n14:00 – 14:20 Előadás – Kiberbiztonság\, NIS2 – Kovács Vilmos Levente\, Simplexion Informatikai Kft. üzletfejlesztési vezetője \n14:20 – 14:40 Előadás – Győri Gábor\, CIB Bank KKV területi igazgató \n14:40 – 15:00 Előadás – Schnaider Dávid\, Videoton Holding Zrt. üzletfejlesztési igazgató \n15:00 – 15:45 Kerekasztalbeszélgetés – Kihívások a járműiparban \nmoderátor: Knezsik István\, Autós Nagykoalíció elnöke \nbeszélgetőpartnerek: \nDr. Pata Ildikó\, Pata József Gépipari Kft. ügyvezető \nHavasi Csaba\, Linamar Zrt. vezérigazgató \nLaczkó Nóra\, TomFerr Zrt. kereskedelmi igazgató \nLányi Krisztián\, Thun Hungary Kft. ügyvezető \nMakra Tibor\, Uniturn Kft. ügyvezető \nSimon Péter\, SimonPlastic Kft. ügyvezető \nSzabó Krisztián\, Szabó Fogaskerékgyártó Kft. ügyvezetője \n15:45 – 16:30 Kerekasztalbeszélgetés – Akkumulátoripar aktualitásai \nmoderátor: Herbály Péter\, TRIGO Group/MAJOSZ Emobility&Akkumulátor szekcióvezető \nbeszélgetőpartnerek: \nBátonyi Attila\, Jász Plasztik General manager \nFási Ferenc\, Hungary Sunwoda Automative Energy Technology Kft. Kormányzati és közkapcsolati igazgató \nKis Ernő\, Metalconstruct Zrt. vezérigazgató \nMajoros Csaba\, Csaba Metál Zrt. vezérigazgató \nSőregi Tibor\, NIO Power Europe Kft. üzemvezető \nThierry László\, ElringKlinger Hungary Kft. ügyvezető \n16:30 – 16:50 Záróelőadás -Gombos Zoltán\, BMW Group Magyarország ügyvezető \n16:50 – 18:30 Állófogadás\, kiegészítő programok
URL:https://automotivesuppliers.hu/esemeny/save-the-date-majosz-jarmuipari-konferencia/
LOCATION:ZalaZone konferenciaközpont\, ZalaZone tér 1.\, Zalaegerszeg\, 8900\, Magyarország
CATEGORIES:konferencia,networking
ATTACH;FMTTYPE=image/png:https://automotivesuppliers.hu/wp-content/uploads/2024/01/SaveTheDate_MAJOSZ-KONF-24-2.png
END:VEVENT
END:VCALENDAR