BEGIN:VCALENDAR
VERSION:2.0
PRODID:-//MAJOSZ - Magyar Járműalkatrészgyártók Országos Szövetsége - ECPv6.6.1//NONSGML v1.0//EN
CALSCALE:GREGORIAN
METHOD:PUBLISH
X-ORIGINAL-URL:https://automotivesuppliers.hu
X-WR-CALDESC:Események MAJOSZ - Magyar Járműalkatrészgyártók Országos Szövetsége számára
REFRESH-INTERVAL;VALUE=DURATION:PT1H
X-Robots-Tag:noindex
X-PUBLISHED-TTL:PT1H
BEGIN:VTIMEZONE
TZID:Europe/Budapest
BEGIN:DAYLIGHT
TZOFFSETFROM:+0100
TZOFFSETTO:+0200
TZNAME:CEST
DTSTART:20240331T010000
END:DAYLIGHT
BEGIN:STANDARD
TZOFFSETFROM:+0200
TZOFFSETTO:+0100
TZNAME:CET
DTSTART:20241027T010000
END:STANDARD
END:VTIMEZONE
BEGIN:VEVENT
DTSTART;TZID=Europe/Budapest:20241016T153000
DTEND;TZID=Europe/Budapest:20241016T170000
DTSTAMP:20260424T174900
CREATED:20241015T142227Z
LAST-MODIFIED:20241015T142227Z
UID:10000674-1729092600-1729098000@automotivesuppliers.hu
SUMMARY:CadTerv tipp szerda: CATIA EXTRA
DESCRIPTION:A CATIA számos olyan funkciót tartalmaz\, ami meggyorsítja és megkönnyíti a munkát\, ezzel hatékonyabban végezheti napi feladatait. Ezek az újítások azok\, amikről lehet\, hogy nem is tud a felhasználó.\nVegyen részt előadásunkon és ismerje meg a CATIA V5 speciális funkcióit! Célunk\, hogy ösztönözzük az adott modellezési és gyártáselőkészítési feladatokra optimalizált megoldások használatát. A CATIA V5 egyébként általánosan minden modellezési helyzetre megfelelő megoldást kínáló eszközkészletétől eltérő módon. \n \n\n\n\nA webinár során az alábbi területekre fókuszálunk:\n? Healing Assistant – Felületjavító és analizáló modul\n? Functional Modeling Part – Funkcionális Modellező modul\n? Mold Tooling Design – Formaadószerszám építő modul\n? Structure Design – Vázszerkezetépítő modul\n\n\n\n\n\n\n\nAz eseményt az autó- és gépipari CATIA V5 felhasználóknak\, kezdő és haladó szinten egyaránt ajánljuk.
URL:https://automotivesuppliers.hu/esemeny/cadterv-tipp-szerda-catia-extra/
CATEGORIES:webinar
ATTACH;FMTTYPE=image/png:https://automotivesuppliers.hu/wp-content/uploads/2024/10/CadTerv-tipp.png
END:VEVENT
END:VCALENDAR