BEGIN:VCALENDAR
VERSION:2.0
PRODID:-//MAJOSZ - Magyar Járműalkatrészgyártók Országos Szövetsége - ECPv6.6.1//NONSGML v1.0//EN
CALSCALE:GREGORIAN
METHOD:PUBLISH
X-WR-CALNAME:MAJOSZ - Magyar Járműalkatrészgyártók Országos Szövetsége
X-ORIGINAL-URL:https://automotivesuppliers.hu
X-WR-CALDESC:Események MAJOSZ - Magyar Járműalkatrészgyártók Országos Szövetsége számára
REFRESH-INTERVAL;VALUE=DURATION:PT1H
X-Robots-Tag:noindex
X-PUBLISHED-TTL:PT1H
BEGIN:VTIMEZONE
TZID:Europe/Budapest
BEGIN:DAYLIGHT
TZOFFSETFROM:+0100
TZOFFSETTO:+0200
TZNAME:CEST
DTSTART:20250330T010000
END:DAYLIGHT
BEGIN:STANDARD
TZOFFSETFROM:+0200
TZOFFSETTO:+0100
TZNAME:CET
DTSTART:20251026T010000
END:STANDARD
END:VTIMEZONE
BEGIN:VEVENT
DTSTART;VALUE=DATE:20250522
DTEND;VALUE=DATE:20250523
DTSTAMP:20260424T071441
CREATED:20250220T152745Z
LAST-MODIFIED:20250220T152755Z
UID:10000677-1747872000-1747958399@automotivesuppliers.hu
SUMMARY:VI. GreenTech Zöld Energia és Fenntarthatóság Szakkiállítás\, Konferencia
DESCRIPTION:2025. május 22-23.\nZalaZONE Járműipari Tesztpálya \nA GreenTech mára – partnereink visszajelzései alapján alapján – a zöld szakmai rendezvények egyik vezető hazai eseményévé vált.\nA rendezvényen évről-évre jelen vannak a kapcsolódó iparágak elismert vállalatainak\, intézményeinek vezetői és szakértői\, szakmai szervezetek\, szövetségek képviselői\, kormányzati és önkormányzati vezetők és szakértők.
URL:https://automotivesuppliers.hu/esemeny/vi-greentech-zold-energia-es-fenntarthatosag-szakkiallitas-konferencia/
CATEGORIES:kiállítás,konferencia
ATTACH;FMTTYPE=image/jpeg:https://automotivesuppliers.hu/wp-content/uploads/2025/02/greentech_2025_tamogatok_magyar.jpg
END:VEVENT
END:VCALENDAR