BEGIN:VCALENDAR
VERSION:2.0
PRODID:-//MAJOSZ - Magyar Járműalkatrészgyártók Országos Szövetsége - ECPv6.6.1//NONSGML v1.0//EN
CALSCALE:GREGORIAN
METHOD:PUBLISH
X-WR-CALNAME:MAJOSZ - Magyar Járműalkatrészgyártók Országos Szövetsége
X-ORIGINAL-URL:https://automotivesuppliers.hu
X-WR-CALDESC:Események MAJOSZ - Magyar Járműalkatrészgyártók Országos Szövetsége számára
REFRESH-INTERVAL;VALUE=DURATION:PT1H
X-Robots-Tag:noindex
X-PUBLISHED-TTL:PT1H
BEGIN:VTIMEZONE
TZID:UTC
BEGIN:STANDARD
TZOFFSETFROM:+0000
TZOFFSETTO:+0000
TZNAME:UTC
DTSTART:20230101T000000
END:STANDARD
END:VTIMEZONE
BEGIN:VEVENT
DTSTART;TZID=UTC:20230307T100000
DTEND;TZID=UTC:20230307T110000
DTSTAMP:20260425T223255
CREATED:20230228T135936Z
LAST-MODIFIED:20230228T135936Z
UID:10000623-1678183200-1678186800@automotivesuppliers.hu
SUMMARY:A gyártás túl drága ahhoz\, hogy csak próbálkozzunk
DESCRIPTION:A graphIT 2023. március 7-ei ingyenes online webinárján a Siemens Digital Industries Software Tecnomatix portfóliójába tartozó Plant Simulation gyártási és logisztikai folyamatszimulációs szoftver\, rendkívül sokoldalú felhasználhatóságával ismerkedhetnek meg a résztvevők. Többek között szó lesz arról\, hogy milyen intuitív módon lehet modelleket építeni a Plant Simulation használatával\, hogyan lehet AGV-ket és azok irányítását modellezni\, vagy éppen folyamatos (nem diszkrét) gyártást szimulálni\, mint például folyadékok az élelmiszer- és vegyiparban. Továbbá szó lesz arról is\, hogyan lehet segítségünkre a Plant Simulation az energia- és költséghatékonyság növelésében a gyártás során. \nA graphIT Kft. 25 éve része a hazai CAD/CAM/PLM piacnak és meghatározó szereplőjévé vált a sokrétű autó- és járműipar\, fogyasztási cikkek\, gépgyártás\, logisztika\, szerszámtervezés-gyártás\, illetve olaj- és gázipar területeinek. A graphIT Kft. összetett mérnöki tapasztalattal\, valamint Siemens PLM szoftvermegoldásokkal biztosítja ügyfelei számára a mindennapi együttműködést. \nManapság mikor a költségek növekedése és a határidők betartása egyre nagyobb kihívás elé állítja a globalizáció világában a termelő vállalatokat\, a logisztika is kulcstényezővé válik a siker elérése érdekében. Az igény folyamatosan nő az időre történő szállításra\, a LEAN elvek bevezetésére\, új fenntartható gyártósorok tervezésére és építésére\, valamint a globális termelési hálózatok menedzselésére\, mindezekhez olyan objektív döntéstámogató adatok szükségesek\, amelyek segítik a termelésben résztvevőket\, az alternatív gyártási megoldások értékelésében és összehasonlításában. Rengeteg a feladat és a kihívás\, amivel a mérnököknek a termelőüzemekben nap mint nap szembesülniük kell. Valljuk be\, sokan a különféle folyamatok kezelésére még táblázatkezelő programot használnak\, viszont azzal kísérletezni vagy dinamikus folyamatokat lekövetni nem lehet. \n\nDe miben lehet segítségünkre a Plant Simulation?\n\nA Plant Simulation segít abban\, hogy létrehozzunk egy digitális modellt a logisztikai rendszerekről így fel lehet térképezni a rendszer karakterisztikáját\, illetve optimalizálni a teljesítményét. A digitális modell nem csak abban van segítségünkre\, hogy kísérleteket végezzünk rajta és ?mi lenne\, ha?? forgatókönyveket futtassunk a valódi gyártás megzavarása nélkül\, hanem már a tervezési folyamat során\, jóval a valós gyártás megkezdése előtt is nagy hatékonysággal alkalmazható. \nSzéleskörűen használható elemző eszközök\, statisztikák\, diagrammok segítenek a különböző gyártási folyamatok kiértékelésében\, illetve hasznos értékes információkkal szolgálhat a gyártás tervezésének korai szakaszában. \n\n Gyártási folyamatok modellezése\n\nA Plant Simulation szoftver használatával jól strukturált\, hierarchikus modellek hozhatók létre a gyártó üzemek\, gyártósorok\, folyamatok leképzésére. Ezt úgy tudjuk elérni\, hogy a program rendkívül sokrétű objektum orientált architektúrával rendelkezik\, összetett rendszerek modellezéséhez és karbantartásához\, természetesen a hozzá tartozó vezérlési mechanizmusokkal. \nSaját objektumok létrehozásával pedig tovább vihetőek a korábbi gyakorlati tapasztalatok más szimulációs modellek esetén is. Bonyolult szimulációk is sokkal könnyebben megérthetők\, kezelhetők és alakíthatók\, mint a tradicionális szimulációs eszközök esetében\, amennyiben igénybe vesszük a Plant Simulation felépítésének előnyeit\, mint az egységesítés\, öröklődés\, hierarchikus felépítés. \n\nA rendszer teljesítményének szimulálása és vizsgálata\n\nA Plant Simulation modellek arra használhatók\, hogy optimalizáljuk a kihozatalt\, be tudjuk azonosítani a gyártásban létrejött szűk keresztmetszeteket\, valamint minimalizálni tudjuk a WIP készleteket a gyártás során. A szimulációs modellben figyelembe tudjuk venni a belső és külső beszállítói láncokat\, a termeléshez szükséges erőforrásokat és üzleti folyamatokat\, lehetővé téve a különböző variációk hatásainak vizsgálatát. \nKülönböző elemzések\, grafikonok és táblázatok mutatják meg a pufferek\, gépek és a dolgozók kihasználtságát. Különféle statisztikai adatok és diagrammok generálhatók a paraméterek dinamikus elemzésének támogatásával\, ideértve a gyártósori terheltséget\, üresjárati időt\, meghibásodást\, javítási időt és a többi kulcsfontosságú teljesítmény tényezőt. \n\nModell vizualizációs megjelenítése\n\nA Plant Simulation rendkívül hatékony 2D-s modell nézetén kívül\, manapság inkább már a 3D megjelenítést alkalmazzák\, ahol a beépített objektumokat kombinálni lehet a saját CAD elemekkel. A végeredmény egy látványos 3D-s digitális iker\, lehetővé téve a kompromisszummentes megjelenítést a vizsgálati lehetőségek veszélyeztetése nélkül. \nA graphIT webinárján a résztvevők elmélyülhetnek a fentebb említett szoftver előnyeiben\, sokoldalúságában\, illetve megtudhatják\, hogyan lehet segítségükre a Plant Simulation az energia- és költséghatékonyság növelésében a gyártás során. \nA webinár ingyenes\, de regisztrációhoz kötött. \nLépjen Ön is a digitalizált jövő útjára és regisztráljon a webinárra! \nKattintson ide és regisztráljon az eseményre!
URL:https://automotivesuppliers.hu/esemeny/a-gyartas-tul-draga-ahhoz-hogy-csak-probalkozzunk/
CATEGORIES:webinar
ATTACH;FMTTYPE=:
END:VEVENT
BEGIN:VEVENT
DTSTART;TZID=UTC:20230321T083000
DTEND;TZID=UTC:20230321T113000
DTSTAMP:20260425T223255
CREATED:20230224T070729Z
LAST-MODIFIED:20230224T070729Z
UID:10000618-1679387400-1679398200@automotivesuppliers.hu
SUMMARY:MAJOSZ MUNKAREGGELI
DESCRIPTION:2023. március 21-én védelmi ipar alakulása\, beszállítási lehetőségek a védelmi iparba témájú munkareggelit tartunk\, kiemelt vendégünk\, Prof. Dr. Palkovics László\, N7 Holding Nemzeti Védelmi Ipari Innovációs Zrt. vezérigazgatója előadással készül\, ezt követően meghallgatja a vállalatok kérdéseit\, felvetéseit. \nProgramterv: \n8:30-9:00 Témafelvezetés\, Dr. Nyirő József\, MAJOSZ elnök\n9:00-09:40 Előadás\, Prof. Dr. Palkovics László\, N7 Holding Nemzeti Védelmi Ipari Innovációs Zrt. vezérigazgató\n9:40-11:30 Beszélgetés \nA rendezvényen való részvétel díja: 10.000 Ft+ÁFA/fő \nREGISZTRÁCIÓ \nAz esemény létszámkorlátja miatt egy vállalattól 1 fő vendéget tudunk fogadni. \nAmennyiben a jelentkezést követően mégsem tud személyesen részt venni\, kérjük\, legkésőbb 2023.03.17-ig írásban értesítsen minket. Ellenkező esetben a teljes részvételi díj kiszámlázásra kerül.
URL:https://automotivesuppliers.hu/esemeny/majosz-munkareggeli-2/
CATEGORIES:munkareggeli,üzleti reggeli
ATTACH;FMTTYPE=:
END:VEVENT
BEGIN:VEVENT
DTSTART;TZID=UTC:20230323T083000
DTEND;TZID=UTC:20230323T170000
DTSTAMP:20260425T223255
CREATED:20230227T083635Z
LAST-MODIFIED:20230227T083635Z
UID:10000621-1679560200-1679590800@automotivesuppliers.hu
SUMMARY:21. econ Konferencia - Hatékony tervezés mérnöki szimulációval
DESCRIPTION:Palkovics László a hazai védelmi ipar\, Aszódi Attila a nukleáris energetika vonatkozásában tart előadást a 21. econ Konferencián. \nA plenáris témák között rakétafejlesztés\, adatmenedzsment\, elektromágneses térszámítás. \nSzakmai előadások\, vitafórumok és esetfeldolgozások 4 szekcióban: mechanika\, áramlástan\, polimerek\, elektromágneses. \nA kiállítói térben kutatás célú rakéta\, kompozit- és 3D nyomtatás\, valós idejű szimulációs tervezés. \nTudj meg többet >>
URL:https://automotivesuppliers.hu/esemeny/21-econ-konferencia-hatekony-tervezes-mernoki-szimulacioval/
LOCATION:Kezdőlap
CATEGORIES:konferencia
ATTACH;FMTTYPE=:
END:VEVENT
BEGIN:VEVENT
DTSTART;TZID=UTC:20230323T090000
DTEND;TZID=UTC:20230323T163000
DTSTAMP:20260425T223255
CREATED:20230313T123230Z
LAST-MODIFIED:20230313T123230Z
UID:10000624-1679562000-1679589000@automotivesuppliers.hu
SUMMARY:1st Battery Conference Emobility in Belgrade
DESCRIPTION:Only two weeks separate us from 1st Battery Conference Emobility in Belgrade. The\nprogramme is (almost) completed and the organiser once again succeeded to attract\neminent experts from the wider region. We can say that there will be an assembly of peak\nbattery knowledge from central Europe in Belgrade. There will be experts coming from\nSlovenia\, Croatia\, Austria\, Hungary and of course Serbia.\nThe conference will take place in Hotel Metropol on 23rd of March. A day earlier\, most of the\nexperts will be present at the Student Tribune\, where they will answer – hopefully – many\ninteresting questions about batteries from students of various faculties. The student tribune\nwill take place in the Belgrade Youth Club\, Dom omladine Beograd.\n“The decision to also prepare a tribune for students was made completely spontaneously\,”\nsays the president of Emobility Primož Lemež.\n“The battery business is getting bigger; batteries are becoming one of the world’s most\nimportant products. Not only for the automotive industry\, the transition to renewable\nsources also requires energy storage\, and not to mention all-electronic devices… In short\,\nbatteries will be extremely important in all phases of life. After all\, also in medicine\, where\nthey already save lives. And that’s why we would also like to introduce batteries and all of\ntheir potential and the possibilities they offer to young people.” \nThe next day\, however\, there will be a conference where experts from various fields affected\nby batteries will gather\, and by no means only from automotive industry. Even though there\nwill be quite a few “motorists” among the lecturers and panelists. For example\, Ivan Dogan\nfrom Rimac Technology. There is probably no need to introduce Mate Rimac and his\nsuccesses in the field of electric cars and the development of technologies. Ivan is in charge\nof battery development at this company. And considering that it was Rimac Automobili that\nmade the most powerful production car in the world\, his lecture will surely attract a lot of\ninterest.\nComing from Slovenia\, prof. dr. Robert Dominko\, world-renowned expert in the field of\nbattery chemistry. He is one of the most prominent researchers of new materials for battery\ncells. \nAustrian\, Dr. Gerfried Jungmeier has been dealing with ecological issues since the appearance\nof the first modern electric cars\, and of course one of the most important issues with electric\ncars is the battery.\nFrom Hungary\, the president of the HUBA battery association dr. Péter Kaderjak. Hungary is\nthe largest European producer of batteries\, and in this country\, in addition to four large\nbattery factories\, there are also a whole series of laboratories\, small companies\, developers\nof battery electronic systems… Not only because of Hungarian development\, but also\nbecause of possible business connections\, the arrival of Dr. Kaderjáka to the conference is\nextremely important.\nNemanja Mikač and Dr. Marko Lukovic from Serbia\, former extremely successful Serbian\nentrepreneur in the field of batteries\, and the latter\, one of the most prominent designers\nand winner of many design awards around the world\, who is especially interested in cars. He\nwill tell us what to expect and what options designers will have when solid state batteries\nreally do appear.\nThe opening speech will be given by Primož Lemež\, the chairman of the organizing\ncommittee. And everyone who knows Primož knows that his introduction will probably be\nquite provocative. \nThe 1st battery conference will take place on only one day this year\, but the organizers are\naware of two things: that it will not be just one conference\, but that several more will have to\nbe held before people know enough about the mystery of batteries\, and that the next\nconference will take place for at least two days. \nProgram of the 1st battery conference: \n09:00:00 Registration\, breakfast\n09:30:00 Welcome speeches (ambassadors\, politicians\, sponsors)\n1st part: Safety and ecology\n09:50:00 Introductory lecture Primož Lemež\, Emobility\n10:05:00 What do we mean by a battery? Ivan Dogan\, Rimac Tehnology\n10:25:00 Battery ecology from birth to death Dr Gerfried Jungmeier\, Joanneum Research\n10:50:00 Panel; Battery Ecology and Sefety (Primož Lemež) Dr Gerfried Jungmeier\, Dr Robert Dominko\, Robert Lukić (Toyota)\, Ivan Dogan\n11:30:00 Break\n2nd part: development and business\n12:00:00 New materials for battery cells Dr Robert Dominko\, Slovenian National Institute of Chemistry\n12:25:00 Hungarian Battery Association (HUBA) Dr. Péter Kaderják\, Managing Director\n12:50:00 ElevenES Nemanja Mikać\, CEO\n13:20:00 Battery and Design; what can we create with solid state batteries? Dr Marko Luković\,\n13:40:00 Lunch\n14:40:00 TBA TBA\n15:00:00\nPanel; what business opportunities do batteries offer (Primož Lemež) Nemanja Mikać\, Dr. Péter\nKaderják\, Dr. Robert Dominko\, Nemanja Mikać\, Ivan Dogan\n15:50:00 Closing words Primož Lemež\, Emobility\n16:00:00 The end of the conference and gathering of the participants \nPresentation
URL:https://automotivesuppliers.hu/esemeny/1st-battery-conference-emobility-in-belgrade/
CATEGORIES:konferencia
ATTACH;FMTTYPE=:
END:VEVENT
END:VCALENDAR