BEGIN:VCALENDAR
VERSION:2.0
PRODID:-//MAJOSZ - Magyar Járműalkatrészgyártók Országos Szövetsége - ECPv6.6.1//NONSGML v1.0//EN
CALSCALE:GREGORIAN
METHOD:PUBLISH
X-WR-CALNAME:MAJOSZ - Magyar Járműalkatrészgyártók Országos Szövetsége
X-ORIGINAL-URL:https://automotivesuppliers.hu
X-WR-CALDESC:Események MAJOSZ - Magyar Járműalkatrészgyártók Országos Szövetsége számára
REFRESH-INTERVAL;VALUE=DURATION:PT1H
X-Robots-Tag:noindex
X-PUBLISHED-TTL:PT1H
BEGIN:VTIMEZONE
TZID:UTC
BEGIN:STANDARD
TZOFFSETFROM:+0000
TZOFFSETTO:+0000
TZNAME:UTC
DTSTART:20230101T000000
END:STANDARD
END:VTIMEZONE
BEGIN:VEVENT
DTSTART;VALUE=DATE:20230601
DTEND;VALUE=DATE:20230602
DTSTAMP:20260425T175929
CREATED:20230524T095329Z
LAST-MODIFIED:20230524T095329Z
UID:10000633-1685577600-1685663999@automotivesuppliers.hu
SUMMARY:DIGILEAN 2023 KONFERENCIA
DESCRIPTION:Inspiráló előadásokkal\, példákkal\, esettanulmányokkal várunk Téged is 2023. június 1-én!  \nMár csak pár nap választ el minket az idei évben megszervezésre kerülő konferenciánkig. A szabad helyek Rád várnak! \nBudaörsön megszervezésre kerül eseményünk\, ahol az előadások és panelbeszélgetések mellett lehetőséged lesz kapcsolatot építeni azonos érdeklődésű szakemberekkel\, megosztani saját tapasztalataidat és ötleteidet\, és felfedezni az ipar vezető szállítóinak legújabb termékeit és megoldásait is. \nEseményünk programja:  \n8:30-9:00: Regisztráció \n9:00-9:15: Megnyitó \n9:15 – 9:45: Dr. habil. Obermayer Nóra\, tanszékvezető egyetemi docens: A digitális lét a tét – Az ÉRem “ötödik” oldala \n9:45 – 10:15: Pintér László – EGIS Zrt\, Folyamatmenedzsment Tanácsadó: Digitalizáció és Lean karöltve az EGIS-ben \n10:15 – 10:45: Jáger József – Magyar Toyo Seat Kft.\, Gyárigazgató:Nulláról százra – az első zöldmezős autóipari SAP S4/Hana előkészítése és bevezetése az MTSK-nál \n10:45 – 11:05: SZÜNET \n11:05 – 11:35: Szőke János – BorgWarner Oroszlány Kft.\, LEAN Supervisor: Digitális kanban a gyártásban \n11:35 – 12:05: Pétervár Áron – Goodmills Magyarország Kft\, Regionális projekt vezető: Csomagolás-hatékonyságfejlesztés szenzoralapú digitalizációval \n12:05 – 13:05: Kálmán Attila – Automat-X Kft.\, Szimulációs részlegvezető: A virtuális beüzemelés alkalmazási lehetőségei \n13:35 – 14:05: Németh Kornél – Mérnökségi és Minőségügyi Igazgató\, Ivy Technology: Ne csak a terméked\, Te is légy egyedi! \n14:05 – 14:25: SZÜNET \n14:25 – 14:55: Michl Domonkos – Unilever Kft.\, Fejlesztési csoportvezető: Folyamatfejlesztés a terepen gyűjtött adatok felhasználása alapján \n14:55 – 15:25: Vezsenyi István – IBM Data Storage Kft.\, mérnökségi osztályvezető: i4.0 transzformáció az IBM high-end storage gyártásnál \n15:25 – 16:00:KEREKASZTAL és ZÁRÁS\n\n\n\n\n\n\n\n\n\n\n\n\n\n\n\n  \n\n\n\n\n\n\n\n\n\n\n\n\n\n\n\nTöltsd ki az online regisztrációs lapot regisztrálj még ma\, mert 2023. május 26-án zárul a jelentkezési lehetőség!
URL:https://automotivesuppliers.hu/esemeny/digilean-2023-konferencia/
LOCATION:Holiday Inn Hotel\, Budaörs\, Rubik Ernő utca 2.\, Budaörs\, 2040\, Magyarország
CATEGORIES:konferencia
END:VEVENT
BEGIN:VEVENT
DTSTART;VALUE=DATE:20230609
DTEND;VALUE=DATE:20230610
DTSTAMP:20260425T175929
CREATED:20230313T174805Z
LAST-MODIFIED:20230313T174805Z
UID:10000625-1686268800-1686355199@automotivesuppliers.hu
SUMMARY:HEGESZTÉSI VERSENY A SZAKMA MŰVÉSZEINEK
DESCRIPTION:2023-ban 5. alkalommal rendezi meg a Rehm Hegesztéstechnika a már jól ismert FOCUSban a művészet hegesztési versenyt\, melynek társszervezője a MESSER Hungarogáz Kft\, főszponzora a PYLON-94 Kft.\, házigazdája a Zalaegerszegi Duális Ágazati Képzőközpont. \nA verseny jelentkezési határideje: 2023. március 31. \nA döntőbe jutatottak kihirdetése májusban az Ipar-Napjai kiállításon lesz.\nA hegesztési verseny június 9-én lesz megtartva Zalaegerszegen.\nRészletes versenykiírás és a jelentkezési/nevezési lap.
URL:https://automotivesuppliers.hu/esemeny/hegesztesi-verseny-a-szakma-muveszeinek/
ATTACH;FMTTYPE=:
END:VEVENT
BEGIN:VEVENT
DTSTART;VALUE=DATE:20230615
DTEND;VALUE=DATE:20230617
DTSTAMP:20260425T175929
CREATED:20230608T112701Z
LAST-MODIFIED:20230608T112701Z
UID:10000634-1686787200-1686959999@automotivesuppliers.hu
SUMMARY:Autóipari minőségügyi eszközök (Core Tools) a folyamat- és rendszer auditorok számára (ID 417-HU)
DESCRIPTION:Annak érdekében\, hogy a vállalatoknál és az egész ellátási láncban magas szintű auditori tevékenységet biztosítsanak\, az auditoroknak megfelelő kompetenciával kell rendelkezniük a vonatkozó módszerekkel kapcsolatban. Az IATF 16949 egyértelműen hangsúlyozza az auditorok kompetenciájának követelményét. Az auditok során alkalmazott hatékony megközelítés fontos sikertényező. Ez a képzés jellemző auditori szituációkról szól az autóipari minőségügyi eszközök mentén. \nKÉPZÉS CÉLCSOPORTJA \n\nJelenlegi és jövőbeli VDA 6.3 folyamat auditorok\nJelenlegi és jövőbeli IATF rendszer auditorok\nAzok a VDA 6.3 folyamat auditorok\, akik az auditori kártyájukat szeretnék meghosszabbítani\n\nA KÉPZÉS CÉLJA\nA résztvevőket tipikus audit szituációkra oktatjuk az autóipari minőségügyi eszközökkel összefüggésben\, a hatékony megközelítésre összpontosítva. A képzés központi elemét képezi mind a megfelelő módszerek technikailag helyes alkalmazásának értékelése\, mind a tipikus helyzetek esetspecifikus értékelése. \nKONCEPCIÓ ÉS MÓDSZER \nA képzés során az egyedi eszközökről (RGA / APQP\, VDA 2 / PPAP\, FMEA\, VDA 5 / MSA\, Pmk / PpK / CpK / SPC és 8D) szóló elméleti előadások váltakoznak a tipikus példák gyakorlataival. A hangsúly a résztvevők általi gyakorlati alkalmazásra irányul. Itt csoportmunka\, egyéni gyakorlatok\, kérdés-válasz feladatok\, valamint plenáris beszélgetések zajlanak. \nRÉSZVÉTELI ELŐFELTÉTEL \nAz autóipari minőségügyi eszközök ismerete előny. \nMEGSZEREZHETŐ KÉPESÍTÉS\nA teszt sikeres teljesítése után a résztvevők képzettségi igazolást kapnak. \nKÉPZÉSI INFORMÁCIÓK \n\n\n\nLétszám\nMinimális létszám 6\, maximális létszám 12 fő.\n\n\nMegszerezhető képesítés\nA képzés sikeres elvégzésével Ön egy VDA QMC képzettségi igazolást kap. A vizsgára bocsátás feltétele a tanfolyam minimum 85%-án való részvétel.\n\n\nA képzés\nidőtartama\n2 nap\n\n\nA képzés költsége\n705 EUR + ÁFA/fő (NYÍLT kontakt képzés)* \n645 EUR + ÁFA/fő (ONLINE képzés)** \nKihelyezett képzésre kérjen egyedi árajánlatot!\n\n\n\n*Az ár tartalmazza a magyar nyelvű tananyagot és a tanúsítványt.\n*Az ár tartalmazza továbbá a közvetített szolgáltatást (délelőtti és délutáni frissítők\, ebéd).\n*Az ár NEM tartalmazza a szállásköltséget. Külön kérés esetén szívesen ajánlunk egy közelben lévő szállodát vagy panziót. \n**Az ár tartalmazza a tanúsítványt.
URL:https://automotivesuppliers.hu/esemeny/autoipari-minosegugyi-eszkozok-core-tools-a-folyamat-es-rendszer-auditorok-szamara-id-417-hu/
CATEGORIES:képzés
ATTACH;FMTTYPE=:
END:VEVENT
BEGIN:VEVENT
DTSTART;TZID=UTC:20230615T100000
DTEND;TZID=UTC:20230615T113000
DTSTAMP:20260425T175929
CREATED:20230524T080409Z
LAST-MODIFIED:20230524T080409Z
UID:10000632-1686823200-1686828600@automotivesuppliers.hu
SUMMARY:WEBINAR - Hogyan csökkentsd folyamatosan a karbantartás tevékenységeid költségeit?
DESCRIPTION:A SilverFrog Informatika Kft. (MAJOSZ tag) költséghatékonyság témájával foglalkozó ingyenes webinárt tart\, melynek témája: \nHOGYAN CSÖKKENTSD FOLYAMATOSAN A KARBATARTÁS TEVÉKENYSÉGED KÖLTSÉGEIT? \nKiknek szól ez a webinár? \nCégvezetőknek\, felsővezetőknek\, karbantartásvezetőknek és karbantartási területen dolgozó szakembereknek\, akik: \n\ncsökkenteni szeretnék karbantartási költségeiket;\nfejleszteni szeretnék karbantartási folyamataikat és ezzel optimalizálni szeretnék működési költségeiket;\njó gyakorlatokat\, azonnal használható megoldásokat szeretnének gyűjteni a karbantartási terület hatékonyságának növeléséhez;\nválaszokat keresnek karbantartási szervezetüknél még fennálló megoldatlan esetekre\, kérdésekre.\n\nHa csak egy kérdésre is igennel válaszoltál\, akkor a webinár Neked szól! \nA webinár időpontja: 2023. június 15. (csütörtök) 10:00 – 11:30 \nAgenda:  \n\nAz előadók és a SilverFrog informatika Kft bemutatkozása (5 perc)\nKöltségcsökkentő gyakorlati megoldások a karbantartási területen (40 perc)\nKérdések és válaszok (15 perc)\n\nAz eseményen való részvétel ingyenes de előzetes regisztrációhoz kötött. \nRegisztrációs link \nA résztvevők a webinár végén egy részletes szakmai kiadványt is kapnak elektronikus formában \namely közel 40 karbantartási folyamatokra vonatkozó auditori kérdést tartalmaz. \nEzen kiadvány hasznos felkészülési támpont lehet ISO 9001\, IATF 16949 és VDA 6.3 auditok során. \nA SilverFrog Informatika (https://silverfrog.hu/) 15 éve foglalkozik karbantartásmenedzsment rendszerek fejlesztésével: \n„A Magyar Ipari Karbantartók Szervezetének tagjaként valljuk\, hogy a megszerzett tapasztalatok megosztása révén létrejövő szakmai kooperáció hasznos és hatékony megoldásokat eredményezhet minden érintett fél számára.„ \nAz eseménnyel kapcsolatos bővebb információk kérhető: \nHalik Péter\, mérnöktanácsadó \n+36 30 733-7290 \npeter.halik@silverfrog.hu
URL:https://automotivesuppliers.hu/esemeny/webinar-hogyan-csokkentsd-folyamatosan-a-karbantartas-tevekenysegeid-koltsegeit/
LOCATION:ONLINE
CATEGORIES:webinar
END:VEVENT
BEGIN:VEVENT
DTSTART;VALUE=DATE:20230619
DTEND;VALUE=DATE:20230620
DTSTAMP:20260425T175929
CREATED:20230608T113022Z
LAST-MODIFIED:20230608T113022Z
UID:10000635-1687132800-1687219199@automotivesuppliers.hu
SUMMARY:VDA 6.5 termékauditor képzés (ID 318-HU)
DESCRIPTION:A termékaudit a gépjárműiparban egy különösen fontos módszere a termékminőség biztosításának. A VDA 6.5 kötet egy iránymutatás a termékaudit programokért felelős vezetőknek\, mely lehetővé teszi\, hogy a saját termékeikre szabott rendszert dolgozzanak ki. Egy VDA 6.5 szerinti termékaudittal azonosíthatóak a vevői követelmények\, lehetővé válik a termékek ezeknek megfelelő vizsgálata és az esetleg szükséges javító intézkedések bevezetése. Ezért a VDA 6.5 egy hatékony eszköz a szervezetben a minőségirányítási rendszer és a termékek továbbfejlesztésére. A megvalósításhoz szükség van jól képzett termékauditorokra\, akik a szükséges ismereteket ezen a képzésen tudják megszerezni. \nKÉPZÉS CÉLCSOPORTJA\nOlyan munkatársak\, akik a szervezetben termékauditokat terveznek és/vagy hajtanak végre. \nA KÉPZÉS CÉLJA\nEzen az egynapos képzésen a résztvevők megismerik a termékaudit programok összeállítását és a termékauditok lefolytatását a tervezéstől\, a megvalósításon\, lezáráson és jelentéskészítésen keresztül\, egészen a bevezetendő helyesbítő tevékenységekig. A képzés során ismertetésre kerülnek azok a módszerek\, melyekkel a termékkockázatok és fejlesztési lehetőségek felismerhetőek\, hogy a reklamált darabok száma tartósan csökkenjen. \nKONCEPCIÓ ÉS MÓDSZER \nA képzésen az előadások\, a plenáris megbeszélések és a tapasztalatcserék felváltva szerepelnek. \nRÉSZVÉTELI ELŐFELTÉTEL \nA termékauditokkal kapcsolatos korábbi tapasztalat ajánlott. \nMEGSZEREZHETŐ KÉPESÍTÉS\nSikeres teszt után a hallgatók tanúsítványt kapnak a képzésről. \nKAPCSOLÓDÓ IRODALOM \nVDA 6.5 kötet \nKÉPZÉSI INFORMÁCIÓK \n\n\n\nLétszám\nMinimális létszám 6\, maximális létszám 12 fő.\n\n\nMegszerezhető képesítés\nA képzés sikeres elvégzésével Ön egy VDA QMC tanúsítványt kap. A vizsgára bocsátás feltétele a tanfolyam minimum 85%-án való részvétel.\n\n\nA képzés\nidőtartama\n1 nap\n\n\nA képzés költsége\n305 EUR + ÁFA / fő (Az ár nyílt KONTAKT képzés esetén érvényes. Kihelyezett képzés­re kérjen egyedi árajánlatot!)* \n240 EUR + ÁFA / fő (Az ár nyílt ONLINE képzés esetén érvényes. Kihelyezett képzésre kérjen egyedi árajánlatot!)**\n\n\n\n*Az ár tartalmazza a magyar nyelvű VDA 6.5 kiadványt. \n*Az ár tartalmazza a magyar nyelvű tananyagot és a tanúsítványt. \n*Az ár tartalmazza továbbá a közvetített szolgáltatást (délelőtti és délutáni frissítők\, ebéd). \n*Az ár NEM tartalmazza a szállásköltséget. Külön kérés esetén szívesen ajánlunk egy közelben lévő szállodát vagy panziót. \n**Az ár tartalmazza a tanúsítványt.
URL:https://automotivesuppliers.hu/esemeny/vda-6-5-termekauditor-kepzes-id-318-hu/
LOCATION:Laurus Irodaház\, Kőér utca 2/A C ép. 5. em.\, Budapest\, 1103
CATEGORIES:képzés
ATTACH;FMTTYPE=:
END:VEVENT
BEGIN:VEVENT
DTSTART;VALUE=DATE:20230622
DTEND;VALUE=DATE:20230624
DTSTAMP:20260425T175929
CREATED:20230608T113326Z
LAST-MODIFIED:20230608T113326Z
UID:10000636-1687392000-1687564799@automotivesuppliers.hu
SUMMARY:Automotive SPICE® bevezető képzés (ID 515-HU)
DESCRIPTION:HÁTTÉR ÉS TÉMÁK \nA SPICE (Software Process Improvement and Capability Determination) elnevezésű ISO/IEC 330xx szabványsorozat az ISO/IEC 15504 utódja\, széles körben alkalmazott és elfogadott követelmény szoftverfejlesztési folyamatok értékelésére és fejlesztésére világszerte és különösen a német autóiparban.\nAz Automotive SPICE® 2006 óta érhető el. Ezt az ISO/IEC 330xx szabványsorozatnak megfelelő értékelési modellt az autóipar igényeihez igazították. 2007 óta az Automotive SPICE® az autóipari beszállítók szoftverrendszer fejlesztéseinek mércéjévé vált\, és állandó eleme az OEM-ek beszállító értékeléseinek. Ez a kétnapos képzés az ISO/IEC 330xx-en alapuló Automotive SPICE® alapos lényegi megértését szolgálja. \nCÉLKÖZÖNSÉG \nAutóipari fejlesztési projektekben dolgozó munkatársak (pl. fejlesztők\, tesztelő mérnökök\, projekt menedzserek)\, minőségügyi és folyamatmérnökök\, valamint egyéb munkatársak\, akik részt vesznek ezekben a projektekben. \nCÉLOK \nA résztvevők megismerkednek az Automotive SPICE® módszerrel és az értékelési modellel\, valamint részletes ismertetést kapnak a folyamatterületekről és az egyes folyamatokról a HIS Scope-ból. Ezenkívül részletesen bemutatjuk az Automotive SPICE® értékeléséhez alkalmazott eljárást\, valamint a 2. és 3. képességi szintet. \nKÉPZÉSI MÓDSZER \nA képzés során műszaki előadások\, gyakorlatok és esettanulmányok váltakoznak annak érdekében\, hogy a témák elmélyülését a résztvevők saját munkakörnyezetéhez igazodva segítsék elő\, különös hangsúlyt fektetve a résztvevők és az oktatók közötti tapasztalatcserére. \nTANÚSÍTVÁNY \nA képzés végén a résztvevők tanúsítványt kapnak a részvételük igazolására. \nKIEGÉSZÍTŐ ANYAG \nBooklet Automotive SPICE \nKÉPZÉSI INFORMÁCIÓK \n\n\n\nLétszám\nMinimális létszám 6\, maximális létszám 12 fő.\n\n\nMegszerezhető képesítés\nA képzés sikeres elvégzésével Ön egy VDA QMC tanúsítványt kap. A vizsgára bocsátás feltétele a tanfolyam minimum 85%-án való részvétel.\n\n\nA képzés\nidőtartama\n2 nap. A képzés az első napon 9 órakor kezdődik és a második napon a vizsga lezárásakor körülbelül 17 órakor fejeződik be.\n\n\nA képzés költsége\n540 EUR + ÁFA / fő (Az ár nyílt KONTAKT képzés esetén érvényes. Kihelyezett képzés­re kérjen egyedi árajánlatot!)* \n495 EUR + ÁFA / fő (Az ár nyílt ONLINE képzés esetén érvényes. Kihelyezett képzésre kérjen egyedi árajánlatot!)**\n\n\n\n*Az ár tartalmazza a magyar nyelvű tananyagot és a tanúsítványt.\n*Az ár tartalmazza továbbá a közvetített szolgáltatást (délelőtti és délutáni frissítők\, ebéd).\n*Az ár NEM tartalmazza a vonatkozó kézikönyvek költségét. Külön kérésre és díjazás fejében ezeket tudjuk biztosítani.\n*Az ár NEM tartalmazza a szállásköltséget. Külön kérés esetén szívesen ajánlunk egy közelben lévő szállodát vagy panziót. \n**Az ár tartalmazza a tanúsítványt.
URL:https://automotivesuppliers.hu/esemeny/automotive-spice-bevezeto-kepzes-id-515-hu/
LOCATION:online
CATEGORIES:képzés
ATTACH;FMTTYPE=:
END:VEVENT
BEGIN:VEVENT
DTSTART;VALUE=DATE:20230626
DTEND;VALUE=DATE:20230628
DTSTAMP:20260425T175930
CREATED:20230609T062503Z
LAST-MODIFIED:20230609T062503Z
UID:10000637-1687737600-1687910399@automotivesuppliers.hu
SUMMARY:Termékbiztonsági és -megfelelőségi megbízott (PSCR) képesítés (ID 503-HU)
DESCRIPTION:A gépjárműipari beszállítói lánc minden egyes vállalata köteles termékei biztonságát és konformitását szavatolni. Ehhez szükség van országonként és régiónként a termékintegritásra vonatkozó érvényes törvényi szabályozásra és ezen túlmenően az általános és jogos biztonsági előírások betartására. Olyan termékek esetében\, amelyek “nem biztonságosak” a piacon vagy olyan termékek esetén\, amelyeknek a jogszabályi megfelelősége kérdéses\, a felelősöknek haladéktalanul meg kell tenniük a szükséges intézkedéseket. Ahhoz\, hogy a termékbiztonsági megbízottakra háruló sokrétű feladatokat az érintettek ismerjék és megértsék\, átfogó tájékoztatásra és megfelelő képzésre van szükség. Ezt a célt szolgálja kétnapos továbbképzésünk\, amelynek fókuszában a résztvevők mindennapi munkavégzése során felmerülő követelmények állnak. Öt modul foglalkozik a termékintegritás központi témáival és a termékbiztonsági megbízottak kompetenciáinak a kialakításával. \nA KÉPZÉS CÉLJA\nA középpontban olyan szakismeretek közvetítése áll\, amelyek a termékbiztonsági felelősök tudását saját szakterületükön a lehető legmagasabb szintre emelik és ezáltal kompetenciáikat mindennapi feladataik elvégzése során erősítik. \nA KÉPZÉS CÉLCSOPORTJA\nOlyan vezetőket és munkatársakat várunk a gépjárműipar egész területéről\, akik el fogják látni vagy már ellátják a termékbiztonsági megbízott feladatait. \nA KÉPZÉS TARTALMA \n– Áttekintjük a felelősségi köröket a fejlesztéstől a gyártáson át\, egészen a rendeltetésszerű használat végéig a teljes beszállítói palettán. \n– Megtárgyalásra kerülnek a termékintegritás irányításának és a termék egész életciklusra jellemző integritásának a kérdései\, észlelt eltérések esetén cselekvési ajánlások kerülnek megfogalmazásra és konkrét példák ismertetésére is sor kerül a megfelelő eszközökre és módszerekre vonatkozóan. \nRÉSZVÉTELI FELTÉTEL \n– A képzésen való részvételhez előny a műszaki és üzemgazdasági végzettség\, valamint a gépjárműipari minőségbiztosítás területén\, elsősorban a reklamációk és kártérítések lebonyolítása terén szerzett tapasztalat. \n– Előny továbbá\, ha a résztvevő rendelkezik a termékek és folyamatok műszaki kockázatainak elemzése terén szerzett ismeretekkel és tapasztalatokkal (pl. FMEA moderátor\, VDA 6.3 folyamat auditor\, fejlesztő)\, valamint a vállalatnál gyártott termékek felhasználásával\, a technika állásával\, illetve az érvényes jogszabályokból és vevői elvárásokból származó követelményrendszerrel kapcsolatos tudásanyaggal. \nKAPCSOLÓDÓ IRODALOM\nVDA-kötet: Termékintegritás \nKÉPZÉSI INFORMÁCIÓK \n\n\n\nLétszám\nMinimális létszám 6 fő\, maximális létszám 12 fő.\n\n\nMegszerezhető képesítés\nA képzés sikeres elvégzésével Ön egy VDA QMC tanúsítványt kap. A vizsgára bocsátás feltétele a tanfolyam minimum 85%-án való részvétel.\n\n\nA képzés\nidőtartama\n2 nap. A képzés az első napon 9 órakor kezdődik és a második napon a vizsga lezárásakor körülbelül 17 órakor fejeződik be.\n\n\nA képzés díja\n705 EUR + ÁFA/fő (Az ár nyílt KONTAKT képzés esetén érvényes. Kihelyezett képzésre kérjen egyedi árajánlatot!)* \n645 EUR + ÁFA/fő (Az ár nyílt ONLINE képzés esetén érvényes. Kihelyezett képzésre kérjen egyedi árajánlatot!)**\n\n\n\n*Az ár tartalmazza a magyar nyelvű tananyagot és a tanúsítványt.\n*Az ár tartalmazza továbbá a közvetített szolgáltatást (délelőtti és délutáni frissítők\, ebéd).\n*Az ár NEM tartalmazza a vonatkozó kézikönyvek költségét. Külön kérésre és díjazás fejében ezeket tudjuk biztosítani.\n*Az ár NEM tartalmazza a szállásköltséget. Külön kérés esetén szívesen ajánlunk egy közelben lévő szállodát vagy panziót. \n**Az ár tartalmazza a tanúsítványt.
URL:https://automotivesuppliers.hu/esemeny/termekbiztonsagi-es-megfelelosegi-megbizott-pscr-kepesites-id-503-hu/
LOCATION:Laurus Irodaház\, Kőér utca 2/A C ép. 5. em.\, Budapest\, 1103
CATEGORIES:képzés
ATTACH;FMTTYPE=:
END:VEVENT
END:VCALENDAR