BEGIN:VCALENDAR
VERSION:2.0
PRODID:-//MAJOSZ - Magyar Járműalkatrészgyártók Országos Szövetsége - ECPv6.6.1//NONSGML v1.0//EN
CALSCALE:GREGORIAN
METHOD:PUBLISH
X-ORIGINAL-URL:https://automotivesuppliers.hu
X-WR-CALDESC:Események MAJOSZ - Magyar Járműalkatrészgyártók Országos Szövetsége számára
REFRESH-INTERVAL;VALUE=DURATION:PT1H
X-Robots-Tag:noindex
X-PUBLISHED-TTL:PT1H
BEGIN:VTIMEZONE
TZID:UTC
BEGIN:STANDARD
TZOFFSETFROM:+0000
TZOFFSETTO:+0000
TZNAME:UTC
DTSTART:20230101T000000
END:STANDARD
END:VTIMEZONE
BEGIN:VEVENT
DTSTART;VALUE=DATE:20230912
DTEND;VALUE=DATE:20230913
DTSTAMP:20260425T131944
CREATED:20230703T141620Z
LAST-MODIFIED:20230703T141620Z
UID:10000645-1694476800-1694563199@automotivesuppliers.hu
SUMMARY:NEXT 3D konferencia
DESCRIPTION:INNOVÁCIÓK 3D NYOMTATÁSSAL ADDITÍV GYÁRTÁS KONFERENCIA\n\n\n<<<részletek és regisztráció>>>
URL:https://automotivesuppliers.hu/esemeny/next-3d-konferencia/
LOCATION:Danubius Hotel Helia
CATEGORIES:konferencia
ATTACH;FMTTYPE=:
END:VEVENT
BEGIN:VEVENT
DTSTART;TZID=UTC:20230915T080000
DTEND;TZID=UTC:20230915T160000
DTSTAMP:20260425T131944
CREATED:20230630T092851Z
LAST-MODIFIED:20230630T092851Z
UID:10000640-1694764800-1694793600@automotivesuppliers.hu
SUMMARY:IPAR 4.0 KÉPZÉS – LEAN GYÁRTÁSI RENDSZEREK ÖSSZEFOGLALÓJA
DESCRIPTION:Képzésünk célja\, hogy a résztvevők megismerjék az ipar 4.0 modern megoldásainak lehetőségeit\, támogatva ezzel a lean alapelvekre épülő hatékony és innovatív termelésmenedzsment módszereket. \nMindazon termelési műszaki szakemberek (technikusok\, mérnökök\, karbantartási\, termelésirányítási\, logisztikai\, minőségirányítási\, technológiai szakemberek\, termelési középvezetők)\, K+F+I szakemberek\, vállalati közép- és felsővezetők számára javasoljuk\, akik minimum középfokú végzettséggel rendelkeznek és munkájuk során kapcsolatba kerülnek az ipari folyamatok fejlesztésével\, digitalizációjával. \nA képzés moduljai: \n\nLean gyártási rendszerek összefoglalója\nVirtuális prototípus gyártás és robotika\nAdditív gyártás\, 3D technológia\nA tervezési és gyártási folyamatok digitalizálási lehetőségei és összekapcsolása\nValós idejű digitális gyártáslogisztikai monitoring\nDiszruptív technológiák és digitális Intelligencia a feldolgozóiparban\nKépfeldolgozással támogatott gyártásközi minőségellenőrzés és végellenőrzés\n\nA képzés időtartama: 8 óra \nA képzés formája: nyílt\, csoportos\, személyes jelenléti képzés \nA képzési modul tematikai elemei: \n\nLean gyártási rendszerek összefoglalója\ngyártási rendszerek összehasonlítása\nhatékonyság a gyártásban\, a karbantartásban\, logisztikában és minőségirányításban\nfolyamatok rendszertani struktúrái\naz irányítási rendszerek lényege\nnapi működés kézben tartása\na shopfloor management alapjai\nhatékony és hatásos folyamatértékelések\nlean\, TPM eszközök és módszerek\naz értékáram elemzés\nlogisztikai megoldások a folyamat fejlesztése érdekében\ntermelési anyagáramvezérlés és kiegyensúlyozás (kanban\, heijunka)\na kiegyensúlyozott gyártási folyamatok\nátállások\, termékváltások fejlesztése\, ptimalizálása\na technológia stabilitásának szerepe\nkarbantartási stratégiák a hatékonyságnövelés érdekében\nTPM rendszere felépítése\, pillérei\nmutatószámok a lean és a TM világában\npéldák\, esettanulmányok\n\n<<<részletek és regisztráció>>>
URL:https://automotivesuppliers.hu/esemeny/ipar-4-0-kepzes-lean-gyartasi-rendszerek-osszefoglaloja/
LOCATION:Veszprém
CATEGORIES:képzés
ATTACH;FMTTYPE=:
END:VEVENT
BEGIN:VEVENT
DTSTART;VALUE=DATE:20230926
DTEND;VALUE=DATE:20230928
DTSTAMP:20260425T131944
CREATED:20230609T064342Z
LAST-MODIFIED:20230609T064342Z
UID:10000639-1695686400-1695859199@automotivesuppliers.hu
SUMMARY:XII. Regionális Autóipari Beszállítói Konferencia
DESCRIPTION:PROGRAM \n2023.09.26. (KEDD) \n8:00 – 8:50        Regisztráció \n8:50                     Megnyitó – A rendezvény moderátora: \nDr. BARANYAI Attila\, Develor Tanácsadó Zrt. \n9:00 – 9:30        Az elektromos közlekedés tisztább gyártást igényel? \nPURGEL Csaba\, ContiTech Fluid Automotive Hungária Kft. \n9:30 – 10:00      A bevezetett VDA érettségi szintek kezelése és a komponens követelmények várható változásai \nNina KANDLER-SCHMITT\, AUDI AG. \n10:00 – 10:30 Megfelelőségbiztosítás az autóiparban intelligensen: integráltan\, menedzselve\, költséghatékonyan \nKARÁSZI Zoltán\, QTICS Group \n10:30 – 11:00    Kávészünet \n11:00 – 11:30    Újdonságok a VDA QMC-től \nDr. Yuliya PRAKOPCHYK\, VDA QMC \n11:30 – 12:00    Termékmegfelelőségi tanúsítási követelmény az Audi beszállítói számára \nVÉNNÉ ONDREJCSIK Ildikó és MAKRÁNYI László – AUDI Hungaria Zrt. \n12:00 – 13:00    Ebédszünet \n13:00 – 13:30 A beszállítókezeléstől a partnerkapcsolati menedzsment felé \nKRATOCHVIL László\, ALPS ALPINE EUROPE GmbH \n13:30 – 14:00    Az autóipari kiberbiztonság alapelvei vezetők számára \nJan-Peter von HUNNIUS\, CYRES Consulting GmbH \n14:00 – 14:30    Japán módszerekkel megfelelni az autóipar követelményeinek \nMISKEI Péter\, Hi-Lex Hungary Kft. \n14:30 – 15:00    Kávészünet \n15:00 – 16:00    A ma és a holnap munkaerőpiaci kihívásai az autóiparban – PÓDIUMBESZÉLGETÉS \nRésztvevők:\nSZENTE Ferenc Zoltán – REHAU Automotive Kft.\nMOLNÁR András – ContiTech Fluid Automotive Hungária Kft.\nMÁTHÉ-NAGY Dávid Zsolt – Joyson Safety Systems Hungary Kft.\nPINCZÉS Balázs – Magyarországi HR Network Egyesület \n16:00 – 16:30    ’Erős és tartós’ – Csomagolási megoldások az autóipar számára \nFlorian RESMEROWSKI\, KNÜPPEL Csomagolástechnika \n16:30 – 17:00    Múlt – jelen – jövő \nBAGINÉ KOVÁCS Szilvia – QFD Group Kft.\nSZABÓ András Viktor – QFD Group Kft.\nSZUDA Csaba – Smanag Solutions Kft. \n17:00 – 19:00    Szünet \n19:00 – 19.40 Welcome drink\, szivar- és csokoládékóstolás \nKézzel készített\, alkoholos és alkoholmentes bonbonok; Prémium kubai\, dominikai és mexikói szivarok \n19:40 – 20:00 FRICSKA Táncegyüttes „ A világ leggyorsabb néptáncosai!” \n20:00 – 22:00 Gálavacsora élőzenével \n2023.09.27. (SZERDA) \n9:00 – 15:00      B2B találkozók \nÜzemlátogatások: \n9:00 – 11:30      „Thermokomfort az autóban” – gyárlátogatás a Gentherm Hungary Kft.-nél \n9:00 – 15:00      Gyárbejárás a japán tulajdonú Hi-Lex Hungary Kft-ben (több csoportban) \n11:00 – 12:00    Gyárlátogatás additív gyártási technológiákkal – Szenvedélyünk a profittermelő 3D nyomtatás!- Varinex Zrt. \n14:00 – 15:00    „Kapcsolatainkat formáljuk!” – Üzemlátogatás a ContiTech Fluid Automotive Hungária Kft. váci üzemében \n12:00 – 14:00    Ebéd \nWorkshopok délelőtt és délután: \n\nAutomotive SPICE követelmények a VDA 6.3-ban\nProduct Compliance\nMit és hogyan mérjünk egy TISAX alapú információbiztonsági irányítási rendszerben avagy mire valók és nem valók a KPI-ok az információbiztonság területén?\n3D nyomtatás\nIpari szűréstechnika az autóiparban\nAz autóipari kiberbiztonság alapelvei vezetők számára\n\n16:45    Rendezvény vége \n*A programváltoztatás jogát fenntartjuk!
URL:https://automotivesuppliers.hu/esemeny/xii-regionalis-autoipari-beszallitoi-konferencia/
LOCATION:AQUAWORLD RESORT****
CATEGORIES:konferencia
ATTACH;FMTTYPE=:
END:VEVENT
END:VCALENDAR