BEGIN:VCALENDAR
VERSION:2.0
PRODID:-//MAJOSZ - Magyar Járműalkatrészgyártók Országos Szövetsége - ECPv6.6.1//NONSGML v1.0//EN
CALSCALE:GREGORIAN
METHOD:PUBLISH
X-WR-CALNAME:MAJOSZ - Magyar Járműalkatrészgyártók Országos Szövetsége
X-ORIGINAL-URL:https://automotivesuppliers.hu
X-WR-CALDESC:Események MAJOSZ - Magyar Járműalkatrészgyártók Országos Szövetsége számára
REFRESH-INTERVAL;VALUE=DURATION:PT1H
X-Robots-Tag:noindex
X-PUBLISHED-TTL:PT1H
BEGIN:VTIMEZONE
TZID:UTC
BEGIN:STANDARD
TZOFFSETFROM:+0000
TZOFFSETTO:+0000
TZNAME:UTC
DTSTART:20240101T000000
END:STANDARD
END:VTIMEZONE
BEGIN:VEVENT
DTSTART;TZID=UTC:20240208T100000
DTEND;TZID=UTC:20240208T113000
DTSTAMP:20260425T050033
CREATED:20240131T154241Z
LAST-MODIFIED:20240131T154241Z
UID:10000653-1707386400-1707391800@automotivesuppliers.hu
SUMMARY:MAJOSZ WEBINAR: FÉMEK VARÁZSA - A Büttner Kft. 3D Fémnyomtatási technológiája - Új dimenziók a járműiparban
DESCRIPTION:A következő MAJOSZ WEBINAR 2024.02.08-án kerül megrendezésre\, melynek témája\, a Fémek Varázsa: A Büttner Kft. 3D Fémnyomtatási technológiája – Új dimenziók a járműiparban. Az ONLINE előadást Haris Attila\, a Büttner Kft. értékesítési képviselője tartja.\nA Büttner & Co kiterjesztette portfólióját az úttörő 3D fémnyomtatás területére. Ez a technológia nemcsak forradalmi fejlesztéseket hoz az autóiparban\, de számos előnnyel jár\, beleértve a teljesítményoptimalizálást\, gyártási hatékonyságot\, tervezési szabadságot és hulladékcsökkenést. A webináron résztvevők mélyebben megismerhetik\, hogyan lehet a 3D fémnyomtatás révén versenyelőnyt szerezni a piacon\, miközben felfedezik az innováció és testre szabás új dimenzióit az autógyártásban.\nCsatlakozzon hozzánk\, és lépjen be a jövőbe vezető útra! \nHelyszín: Teams \nIdőpont: 2024.02.08. 10:00-11:30 \nProgram:\n10:00 – 10:05 Témafelvezetés – MAJOSZ\n10:05 – 10:35 Előadás – Fémek Varázsa: 3D Fémnyomtatási technológia – Új dimenziók a járműiparban\, Haris Attila\, a Büttner Kft. értékesítési képviselője\n10:35 – 11:30 Kérdezz-felelek \nREGISZTRÁCIÓ \nA rendezvényen a részvétel ingyenes\, de regisztrációhoz kötött. Regisztrációs határidő: 2024.02.07. 17 óra \n#együttkönnyebb
URL:https://automotivesuppliers.hu/esemeny/majosz-webinar-femek-varazsa-a-buttner-kft-3d-femnyomtatasi-technologiaja-uj-dimenziok-a-jarmuiparban/
LOCATION:TEAMS
CATEGORIES:webinar
ATTACH;FMTTYPE=:
END:VEVENT
BEGIN:VEVENT
DTSTART;TZID=UTC:20240214T110000
DTEND;TZID=UTC:20240214T130000
DTSTAMP:20260425T050033
CREATED:20240119T084747Z
LAST-MODIFIED:20240119T084747Z
UID:10000650-1707908400-1707915600@automotivesuppliers.hu
SUMMARY:Büttner Mintaüzem látogatás
DESCRIPTION:
URL:https://automotivesuppliers.hu/esemeny/buttner-mintauzem-latogatas/
CATEGORIES:gyárlátogatás,mintaüzem látogatás,nyíltnap
ATTACH;FMTTYPE=:
END:VEVENT
END:VCALENDAR