BEGIN:VCALENDAR
VERSION:2.0
PRODID:-//MAJOSZ - Magyar Járműalkatrészgyártók Országos Szövetsége - ECPv6.6.1//NONSGML v1.0//EN
CALSCALE:GREGORIAN
METHOD:PUBLISH
X-WR-CALNAME:MAJOSZ - Magyar Járműalkatrészgyártók Országos Szövetsége
X-ORIGINAL-URL:https://automotivesuppliers.hu
X-WR-CALDESC:Események MAJOSZ - Magyar Járműalkatrészgyártók Országos Szövetsége számára
REFRESH-INTERVAL;VALUE=DURATION:PT1H
X-Robots-Tag:noindex
X-PUBLISHED-TTL:PT1H
BEGIN:VTIMEZONE
TZID:UTC
BEGIN:STANDARD
TZOFFSETFROM:+0000
TZOFFSETTO:+0000
TZNAME:UTC
DTSTART:20240101T000000
END:STANDARD
END:VTIMEZONE
BEGIN:VEVENT
DTSTART;TZID=UTC:20240307T140000
DTEND;TZID=UTC:20240307T150000
DTSTAMP:20260425T032322
CREATED:20240309T142244Z
LAST-MODIFIED:20240309T142244Z
UID:10000657-1709820000-1709823600@automotivesuppliers.hu
SUMMARY:WEBINAR: EKR forrásbevonás 2024-ben
DESCRIPTION:Csökkentse beruházása költségeit és növelje energiahatékonyságát az Ön vállalata számára is elérhető EKR források bevonásával! \nHelyszínOnlineRészletes információk a regisztrációt követően érhetők el. \nIdőpont március 7. (csütörtök)14:00 – 15:00 \nMiért érdemes regisztrálni?\nAz előadás során megismerhetik az EKR (Energiahatékonysági Kötelezettségi Rendszer) rendszer működését és előadóink bemutatják\, hogy az Ön vállalata hogyan tud sikerrel végigvinni egy teljes EKR pályázatot. A webinár végén szakértőink a felmerülő konkrét kérdeseikre is választ adnak.
URL:https://automotivesuppliers.hu/esemeny/webinar-ekr-forrasbevonas-2024-ben/
CATEGORIES:webinar
END:VEVENT
BEGIN:VEVENT
DTSTART;TZID=UTC:20240321T090000
DTEND;TZID=UTC:20240321T160000
DTSTAMP:20260425T032322
CREATED:20240309T173233Z
LAST-MODIFIED:20240309T173233Z
UID:10000658-1711011600-1711036800@automotivesuppliers.hu
SUMMARY:61. BEST PRACTICE FÓRUM – GYÁRLÁTOGATÁS
DESCRIPTION:A Fórum célja:\nA Digitalizációs és Lean szemléletű folyamatfejlesztések sikeres vállalati megoldásainak\, jó gyakorlatainak megosztása a fórum résztvevői között.\n\n\nA Fórum helyszíne:\nROTO Elzett Certa Kft. 9461\, Lövő\, Kossuth utca 25.\n\n\nA Fórumot vezetik\nKocsis Ernő\, Gyárigazgató\, ROTO Elzett Certa Kft.\nDr. Németh Balázs\, ügyvezető igazgató\, Kvalikon Kft.\n\n\n\n\n\n\nIdőpontok és\nhelyszínek\n\n2024. Március 21\nJelentkezési határidő: 2024. 03 14.\nRoto Elzett Certa Kft. 9461 Lövő\, Kossuth L. utca 25.\n\n\n\n\n\n\nProgram\n\n\n09.00 – 09.10 óra Köszöntés\n\n\nKocsis Ernő\, ügyvezető igazgató ROTO Elzett Certa Kft.\, Dr. Németh Balázs\, ügyvezető igazgató\, Kvalikon Kft.\n\n\n09.10 – 09.30 óra A ROTO Elzett Certa Kft. bemutatása\n\n\nKocsis Ernő\, ügyvezető igazgató\n\n\n09.30 – 10.15 óra HR és vállalati kultúra folyamatszervezetben\n\n\nSomogyi Zsuzsanna\, Regionális HR-vezető – Agilis vállalati működés\, Felsővezetői csapatmunka\, Vezetői tudás fejlesztése\, Roto élményprogram\, Digitális HR-megoldások\n\n\n10:15 – 10.30 óra Kávészünet\n\n\n10.30 – 11.15 óra Gyártástámogató rendszerek a ROTO-nál\n\n\nBerkes Norbert\, Alkatrészgyártás vezető – Saját fejlesztésű MES és QMES gyártástámogató rendszer\, Szerszámkövető rendszer\, OEE\, Berendezés hatékonyság növelés\, Ipar 4.0 megoldások\n\n\n11.15 – 12.00 óra Energiafelügyelet és energiatakarékosság\n\n\nDongó István\, Létesítménygazdálkodási vezető – Energia menedzsment rendszer\, Energiafelügyelet\, Energiatakarékosság\, Automatizálás\, Energiahatékonysági audit\n\n\n12.00 – 13.00 óra Ebéd\n\n\n13.00 – 14.30 óra Gyárlátogatás – A fejlesztési tevékenységek eredményeinek bemutatása\n\n\n14.30 – 14.45 óra Kávészünet\n\n\n14.45 – 15.45 óra BEST Practice – Vitafórum\n\n\n– Hogyan növelhetjük a vállalat rugalmasságát és hatékonyságát a digitalizációval?\n– Mi szükséges az Ipar 4.0 eredményes bevezetéséhez?\n– Kérdések és válaszok\, fejlesztési javaslatok a bemutatott ötletekkel kapcsolatban.\n\n\n15.45 – 16.00 óra Fórum Zárás\, Dr. Németh Balázs\, Kvalikon Kft.\n\n\n\n\n\n\nRészvételi díj\n85.000 HUF+ÁFA\n\n\nÉtkezési díj\nHUF+ÁFA
URL:https://automotivesuppliers.hu/esemeny/61-best-practice-forum-gyarlatogatas/
CATEGORIES:gyárlátogatás,workshop
ATTACH;FMTTYPE=:
END:VEVENT
BEGIN:VEVENT
DTSTART;TZID=UTC:20240326T090000
DTEND;TZID=UTC:20240326T133000
DTSTAMP:20260425T032322
CREATED:20240302T173328Z
LAST-MODIFIED:20240302T173328Z
UID:10000654-1711443600-1711459800@automotivesuppliers.hu
SUMMARY:KONICA MINOLTA MAJOSZ TAGVÁLLALATI NYÍLT NAP
DESCRIPTION:VÁLLALATI FOLYAMATOK JAVÍTÁSA ÉS ÜZLETTÁMOGATÁS\, MESTERSÉGES INTELLIGENCIÁN ALAPULÓ GÉPI LÁTÁSSAL\nÖnök mire használják jelenleg a munkahelyen telepített kamera rendszereket?\nSzívesen alkalmaznának olyan AI alapú gépi látás megoldásokat\, amelyek nemcsak biztonsági célokra\, hanem üzlettámogatásra\nés operatív folyamatok javítására is alkalmasak?\nJárműipari és egyéb gyártói vállalatoknak szóló nyílt napunkon a „Home of IoT Technology” bemutatótermünkben ÉLŐ demókkal\, valamint megvalósult hazai és nemzetközi esettanulmányok révén részletesen ismertetjük\, hogy egy fejlett videó analitikával rendelkező központi videó menedzsment rendszerrel\, hőkamerás alkalmazásokkal\, AI vezérelt gépi látás alapú megoldásokkal hogyan érhető el hatékonyabb és eredményesebb vállalati működés\, fokozott életvédelem biztosítása mellett.\nIde sorolva vizuális minőségellenőrzési alkalmazásainkat\, melyeknek köszönhetően az előállítási folyamat során nagy pontossággal kiszűrhetők a munkadarabokon keletkező felületi hibák vagy egy berendezés összeszerelésének hibái.\nTovábbá kiemelendők az eszközök és a munkaerő védelmét szolgáló AI alapú megoldásaink is\, azaz a hőkamerás rendszereink és a PPE detektálásra lefejlesztett AI-alapú FORXAI MIRROR. \nPROGRAM\n09:00-09:30 | Érkezés\, regisztráció\n09:30-11:00 | VÁLLALATI FOLYAMATOK JAVÍTÁSA ÉS ÜZLETTÁMOGATÁS INTELLIGENS VIDEÓ MEGOLDÁSOKKAL\n11:00 – 11:15 | Szünet\n11:15 – 12:45 | SHOWROOM TOUR\, ÉLŐ demózással.\n12:45 – 13:30 | JAPÁN KONYHA FELFEDEZÉSE \nRÉSZLETEK ÉS REGISZTRÁCIÓ
URL:https://automotivesuppliers.hu/esemeny/konica-minolta-majosz-tagvallalati-nyilt-nap/
CATEGORIES:networking,nyíltnap
ATTACH;FMTTYPE=:
END:VEVENT
END:VCALENDAR