BEGIN:VCALENDAR
VERSION:2.0
PRODID:-//MAJOSZ - Magyar Járműalkatrészgyártók Országos Szövetsége - ECPv6.6.1//NONSGML v1.0//EN
CALSCALE:GREGORIAN
METHOD:PUBLISH
X-ORIGINAL-URL:https://automotivesuppliers.hu
X-WR-CALDESC:Események MAJOSZ - Magyar Járműalkatrészgyártók Országos Szövetsége számára
REFRESH-INTERVAL;VALUE=DURATION:PT1H
X-Robots-Tag:noindex
X-PUBLISHED-TTL:PT1H
BEGIN:VTIMEZONE
TZID:UTC
BEGIN:STANDARD
TZOFFSETFROM:+0000
TZOFFSETTO:+0000
TZNAME:UTC
DTSTART:20240101T000000
END:STANDARD
END:VTIMEZONE
BEGIN:VEVENT
DTSTART;TZID=UTC:20240606T090000
DTEND;TZID=UTC:20240606T150000
DTSTAMP:20260424T224134
CREATED:20240604T091152Z
LAST-MODIFIED:20240604T091152Z
UID:10000665-1717664400-1717686000@automotivesuppliers.hu
SUMMARY:II. METAL3D KONFERENCIA ÉS KIÁLLÍTÁS
DESCRIPTION:Szeretettel meghívjuk a 2024. június 6-án\, a SinterAM Kft. és a VARINEX Zrt. szervezésében megrendezésre kerülő\, 3D fémnyomtatásról\, 3D szkennelésről és digitalizációról szóló konferenciára és kiállításra\, amelyet nemzetközi és hazai felhasználókkal\, ipari és oktatási partnerekkel szervezünk.\nIdőpont: 2024. június 6.\, csütörtök\, 09:00-15:00 óra\nHelyszín: Sugár Mozi (1148 Budapest\, Örs vezér tere 24.)\nRészletes program és regisztráció: https://metal3d.hu/regisztracio/\n\nRészvételi díj az ipari szereplők részére 150€/fő + áfa.\nAkadémiai szereplők (oktatók és diákok) számára 50€/fő + áfa.\n\nA tavaly júniusi METAL3D konferenciához képest jelentősen bővítjük a szakmai tartalmat. A konferencia résztvevői olyan hazai és nemzetközi innovatív ipari vállalkozásoktól inspirálódhatnak\, akik fejlesztéseikben világszínvonalat képviselnek.
URL:https://automotivesuppliers.hu/esemeny/ii-metal3d-konferencia-es-kiallitas/
CATEGORIES:konferencia
END:VEVENT
END:VCALENDAR