BEGIN:VCALENDAR
VERSION:2.0
PRODID:-//MAJOSZ - Magyar Járműalkatrészgyártók Országos Szövetsége - ECPv6.6.1//NONSGML v1.0//EN
CALSCALE:GREGORIAN
METHOD:PUBLISH
X-WR-CALNAME:MAJOSZ - Magyar Járműalkatrészgyártók Országos Szövetsége
X-ORIGINAL-URL:https://automotivesuppliers.hu
X-WR-CALDESC:Események MAJOSZ - Magyar Járműalkatrészgyártók Országos Szövetsége számára
REFRESH-INTERVAL;VALUE=DURATION:PT1H
X-Robots-Tag:noindex
X-PUBLISHED-TTL:PT1H
BEGIN:VTIMEZONE
TZID:Europe/Budapest
BEGIN:DAYLIGHT
TZOFFSETFROM:+0100
TZOFFSETTO:+0200
TZNAME:CEST
DTSTART:20240331T010000
END:DAYLIGHT
BEGIN:STANDARD
TZOFFSETFROM:+0200
TZOFFSETTO:+0100
TZNAME:CET
DTSTART:20241027T010000
END:STANDARD
END:VTIMEZONE
BEGIN:VEVENT
DTSTART;VALUE=DATE:20241203
DTEND;VALUE=DATE:20241205
DTSTAMP:20260424T131732
CREATED:20240815T083237Z
LAST-MODIFIED:20240815T091751Z
UID:10000671-1733184000-1733356799@automotivesuppliers.hu
SUMMARY:techference
DESCRIPTION:
URL:https://automotivesuppliers.hu/esemeny/techference/
CATEGORIES:konferencia
ATTACH;FMTTYPE=image/jpeg:https://automotivesuppliers.hu/wp-content/uploads/2024/08/1723537974479.jpg
END:VEVENT
BEGIN:VEVENT
DTSTART;TZID=Europe/Budapest:20241211T083000
DTEND;TZID=Europe/Budapest:20241211T120000
DTSTAMP:20260424T131732
CREATED:20241202T075650Z
LAST-MODIFIED:20241202T075650Z
UID:10000675-1733905800-1733918400@automotivesuppliers.hu
SUMMARY:MAJOSZ Quality Club
DESCRIPTION:2024. december 11-én folytatódik a MAJOSZ Quality Club powered by TRIGO\, melynek célja a szakmai párbeszéd\, tapasztalatmegosztás és a vállalatokon átívelő kapcsolatépítés elősegítése.\nNegyedik alkalmunk témája: 2024 összegzése és tanulságai\, 2025-ös várakozások és prognózisok! Fókuszban a minőség! \nKerekasztalbeszélgetésünkre minden\, a témában érintett minőségügyi szakembert\, vezetőt szeretettel várunk. A programmal célunk a közvetlen tapasztalatcsere facilitálása. \nA rendezvény szakmai moderátora: Szatmári-Jászi Eszter\, a Robert Bosch Elektronika Kft. Group Leader of Customer Quality Engineers\nHelyszín: Sunhill Bistro – SkyBar (1016 Budapest\, Naphegy u. 67.)\nProgramterv:\n08:30 – 09:00 Vendégvárás\, regisztráció\n09:00 – 09:05 Köszöntő – Dr. Nyirő József\, MAJOSZ elnök\n09:05 – 09:10 Köszöntő – Herbály Péter\, TRIGO GROUP Global Resident Engineering Director; Continental Europe Sales Vice President\n09:10 – 09:30 Témafelvezetés – Szatmári-Jászi Eszter\, a Robert Bosch Elektronika Kft. Group Leader of Customer Quality Engineers\n09:30 – 12:00 Szakmai beszélgetés\, megoldási javaslatok \nRészvételi díj:  15.000 Ft + áfa/fő\n(a létszám korlátozott) \nRegisztráció
URL:https://automotivesuppliers.hu/esemeny/majosz-quality-club/
CATEGORIES:kerekasztalbeszélgetés,üzleti reggeli
ATTACH;FMTTYPE=image/png:https://automotivesuppliers.hu/wp-content/uploads/2024/12/unnamed-1.png
END:VEVENT
END:VCALENDAR