BEGIN:VCALENDAR
VERSION:2.0
PRODID:-//MAJOSZ - Magyar Járműalkatrészgyártók Országos Szövetsége - ECPv6.6.1//NONSGML v1.0//EN
CALSCALE:GREGORIAN
METHOD:PUBLISH
X-ORIGINAL-URL:https://automotivesuppliers.hu
X-WR-CALDESC:Események MAJOSZ - Magyar Járműalkatrészgyártók Országos Szövetsége számára
REFRESH-INTERVAL;VALUE=DURATION:PT1H
X-Robots-Tag:noindex
X-PUBLISHED-TTL:PT1H
BEGIN:VTIMEZONE
TZID:Europe/Budapest
BEGIN:DAYLIGHT
TZOFFSETFROM:+0100
TZOFFSETTO:+0200
TZNAME:CEST
DTSTART:20250330T010000
END:DAYLIGHT
BEGIN:STANDARD
TZOFFSETFROM:+0200
TZOFFSETTO:+0100
TZNAME:CET
DTSTART:20251026T010000
END:STANDARD
END:VTIMEZONE
BEGIN:VEVENT
DTSTART;TZID=Europe/Budapest:20250117T143000
DTEND;TZID=Europe/Budapest:20250117T163000
DTSTAMP:20260424T114853
CREATED:20241218T080918Z
LAST-MODIFIED:20250106T135415Z
UID:10000676-1737124200-1737131400@automotivesuppliers.hu
SUMMARY:Évnyitó Rendezvény
DESCRIPTION:Évnyitó Rendezvényünkön is töretlenül a Járműipar aktuális helyzetére fókuszálunk! \n\nMélyen tisztelt meghívásunkat elfogadva köreinkbe várjuk\nSzabados Richárd NGM KKV fejlesztésért és technológiáért felelős Államtitkár urat\, valamint \nHorváth Viktor Energiaügyi Minisztérium energiaátmenetért felelős Helyettes Államtitkár urat is. \n\n(!) Kiemelt Vendégeink előadásait követően lehetőségég nyílik az esemény keretein belül a Járműipar jelenlegi és jövőbeli helyzetével kapcsolatos kérdések hangoztatására. \nHelyszín: Millennium Kávéház és Étterem (1146 Budapest\, Olof Palme stny. 1.) \nProgramterv:\n14:30 – 15:00 Vendégvárás\, regisztráció\n15:00 – 15:05 Köszöntő – Dr. Nyirő József\, MAJOSZ elnök\n15:05 – 15:30 Előadás – Szabados Richárd\, NGM KKV fejlesztésért és technológiáért felelős államtitkár\n15:30 – 15:55 Előadás – Horváth Viktor – Energiaügyi Minisztérium energiaátmenetért felelős helyettes államtitkár\n15:55 – 16:30 –  Járműipari helyzet a tagvállalatok szemszögéből\, szakmai beszélgetés\, megoldási javaslatok\n16:30 – Kötetlen beszélgetés \nA rendezvényen való részvétel díj:  20.000 Ft + ÁFA / Fő \nJelentkezési határidő: 2025. január 10. 16:00 óra \nA jelentkezés a részvétel lehetőségének igénylését jelenti\, szeretettel várjuk\, számítunk minden Kedves Regisztrált megjelenésére.\nAmennyiben esetlegesen\, előre láthatóan mégsem tud részt venni eseményünkön\, a majosz@majosz.hu (központi) e-mail címre történő jelzéssel a rögzített adatok módosítása/törlése kérhető (2025. január 14.-ig).\nEzúton szeretnénk tájékoztatni\, hogy a nem érvényesített regisztráció is teljes értékű jelenlétnek felel meg és a fent említett költséggel automatikusan számlaigényt generál. Megértésüket előre is köszönjük szépen! \nREGISZTRÁCIÓ
URL:https://automotivesuppliers.hu/esemeny/evnyito-rendezveny/
CATEGORIES:Évindító
ATTACH;FMTTYPE=image/png:https://automotivesuppliers.hu/wp-content/uploads/2024/12/unnamed-2.png
END:VEVENT
END:VCALENDAR