BEGIN:VCALENDAR
VERSION:2.0
PRODID:-//MAJOSZ - Magyar Járműalkatrészgyártók Országos Szövetsége - ECPv6.6.1//NONSGML v1.0//EN
CALSCALE:GREGORIAN
METHOD:PUBLISH
X-WR-CALNAME:MAJOSZ - Magyar Járműalkatrészgyártók Országos Szövetsége
X-ORIGINAL-URL:https://automotivesuppliers.hu
X-WR-CALDESC:Események MAJOSZ - Magyar Járműalkatrészgyártók Országos Szövetsége számára
REFRESH-INTERVAL;VALUE=DURATION:PT1H
X-Robots-Tag:noindex
X-PUBLISHED-TTL:PT1H
BEGIN:VTIMEZONE
TZID:Europe/Budapest
BEGIN:DAYLIGHT
TZOFFSETFROM:+0100
TZOFFSETTO:+0200
TZNAME:CEST
DTSTART:20250330T010000
END:DAYLIGHT
BEGIN:STANDARD
TZOFFSETFROM:+0200
TZOFFSETTO:+0100
TZNAME:CET
DTSTART:20251026T010000
END:STANDARD
END:VTIMEZONE
BEGIN:VEVENT
DTSTART;VALUE=DATE:20250522
DTEND;VALUE=DATE:20250523
DTSTAMP:20260424T161648
CREATED:20250220T152745Z
LAST-MODIFIED:20250220T152755Z
UID:10000677-1747872000-1747958399@automotivesuppliers.hu
SUMMARY:VI. GreenTech Zöld Energia és Fenntarthatóság Szakkiállítás\, Konferencia
DESCRIPTION:2025. május 22-23.\nZalaZONE Járműipari Tesztpálya \nA GreenTech mára – partnereink visszajelzései alapján alapján – a zöld szakmai rendezvények egyik vezető hazai eseményévé vált.\nA rendezvényen évről-évre jelen vannak a kapcsolódó iparágak elismert vállalatainak\, intézményeinek vezetői és szakértői\, szakmai szervezetek\, szövetségek képviselői\, kormányzati és önkormányzati vezetők és szakértők.
URL:https://automotivesuppliers.hu/esemeny/vi-greentech-zold-energia-es-fenntarthatosag-szakkiallitas-konferencia/
CATEGORIES:kiállítás,konferencia
ATTACH;FMTTYPE=image/jpeg:https://automotivesuppliers.hu/wp-content/uploads/2025/02/greentech_2025_tamogatok_magyar.jpg
END:VEVENT
BEGIN:VEVENT
DTSTART;TZID=Europe/Budapest:20250528T080000
DTEND;TZID=Europe/Budapest:20250528T123000
DTSTAMP:20260424T161648
CREATED:20250512T130212Z
LAST-MODIFIED:20250512T131247Z
UID:10000680-1748419200-1748435400@automotivesuppliers.hu
SUMMARY:Tisztújító közgyűlés
DESCRIPTION:Tisztelt Tagvállaltunk Képviselője! \n  \nSzeretettel meghívjuk Önt a 2025. május 28-án megrendezésre kerülő MAJOSZ KÖZGYŰLÉSRE\, valamint a TÁMOGATÁSI LEHETŐSÉGEK – PÉNZÜGYI HELYZET – KÜLGAZDASÁG című szakmai fórumra\, ahol a szektor aktuális kihívásait és lehetőségeit járjuk körül. \nProgramterv: \n8:00-08:40 Regisztráció\, vendégek fogadása\, reggeli lehetőség (határozatképesség megállapítása\,ismételt közgyűlés kihirdetése 10:15-ra\, ha szükséges) \n08:50-09:00 Dr. Nyirő József\, MAJOSZ elnök megnyitója \n09:00-09:20 Hunyadi László\, Nemzetgazdasági Minisztérium helyettes államtitkár előadása \n09:20-09:40 Virág Barnabás\, Magyar Nemzeti Bank alelnök előadása \n09:40-10:00 Jenei Gábor\, HEPA Magyar Exportfejlesztési Ügynökség vezérigazgató előadása \n10:00-10:15 Szünet\, Közgyűlés előkészítése \n10:15-12:00 Közgyűlés \n12:00-12:30 Kötetlen beszélgetés \nREGISZTRÁCIÓ \nFONTOS! \nRészvételi szándékukat illetően várjuk visszajelzésüket 2025. május 23. 12 óráig a regisztrációs linken. Az esemény létszámkorlátja miatt egy tagvállalattól 1 fő vendéget tudunk fogadni. Amennyiben a jelentkezést követően mégsem tud személyesen részt venni\, kérjük\, legkésőbb 2025.05.23-ig írásban értesítsen minket. \nKérem hozza magával a kitöltött részvételi lapot\, amennyiben Ön MAJOSZ kapcsolattartóként vesz részt a közgyűlésen\, de a cég képviseletére nem jogosult\, szíveskedjen a MEGHATALMAZÁST a cég képviseletére jogosult személy által kitöltve és aláírva magával hozni a Közgyűlésre. \nHelyszín: Millennium Kávéház és Étterem\, 1146 Budapest\, Olof Palme stny. 1. \nŐszintén bízunk abban\, hogy meghívásunkat el tudja fogadni\, és vendégül láthatjuk Önt. \n\n377369v1 – MAJOSZ alapszabály 20250505\n430484v1 – MAJOSZ_MEGHÍVÓ_Közgyűlés_2025\nAlapszabály módosítások jegyzéke_20250505\nMeghatalmazás_2025\nRészvételi lap_2025 \nÜdvözlettel\, \nDR. NYIRŐ JÓZSEF \nelnök
URL:https://automotivesuppliers.hu/esemeny/tisztujito-kozgyules/
LOCATION:Millennium Kávéház és Étterem\, 1146\, Budapest\, Olof Palme sétány 1.\, Budapest\, 1146\, Magyarország
CATEGORIES:közgyűlés
ATTACH;FMTTYPE=image/jpeg:https://automotivesuppliers.hu/wp-content/uploads/2025/05/banner-ppt-meret.jpg
END:VEVENT
BEGIN:VEVENT
DTSTART;VALUE=DATE:20251002
DTEND;VALUE=DATE:20251004
DTSTAMP:20260424T161648
CREATED:20250725T074535Z
LAST-MODIFIED:20250725T074535Z
UID:10000681-1759363200-1759535999@automotivesuppliers.hu
SUMMARY:Járműipari Konferencia
DESCRIPTION:Idén 2025.10.02-03.-án a Magyar Járműalkatrészgyártók Országos Szövetsége várja vendégeit  Járműipari Konferenciáján  Zalaegerszegen a  ZalaZone Járműipari Tesztpályán.  A konferencián\, több száz járműipari szakértő gyűlik össze\, hogy megvitassák a trendeket\, az ipar 4.0 folyamatok irányait és a járműipari jövőjét érintő kérdéseket. \nAz új piaci kihívásokra tekintettel a MAJOSZ kiemelt figyelmet fordít az innováció\, digitalizáció és egyéb hozzáadott értéket teremtő területekre (például gyártás\, értékesítés\, marketing\, márkaépítés) is\, és bízunk abban\, hogy ezekhez a területekhez kapcsolódó fórumaink lehetőséget biztosítanak majd a közös gondolkodásra\, kreatív\, illetve szemléletformáló megoldások keresésére és a közös cselekvésre is. \nSzokásainkhoz híven idén is tagvállalataink számára 1 fő részvétele ingyenes a Konferencia napjára \nŐszintén bízunk abban\, hogy Ön is velünk tart és vendégül láthatjuk Zalaegerszegen\, a járműipari tesztpálya konferenciaközpontjában tartott eseményünkön. \nNe maradjon le! Részletek: Hamarosan!
URL:https://automotivesuppliers.hu/esemeny/jarmuipari-konferencia/
LOCATION:ZalaZone konferenciaközpont\, ZalaZone tér 1.\, Zalaegerszeg\, 8900\, Magyarország
CATEGORIES:konferencia
ATTACH;FMTTYPE=image/png:https://automotivesuppliers.hu/wp-content/uploads/2025/07/unnamed-5.png
END:VEVENT
END:VCALENDAR